BEGIN:VCALENDAR
VERSION:2.0
PRODID:-//InvisionCommunity Events 5.0.18//EN
METHOD:PUBLISH
CALSCALE:GREGORIAN
REFRESH-INTERVAL:PT15M
X-PUBLISHED-TTL:PT15M
X-WR-CALNAME:Eastern
NAME:Eastern
BEGIN:VTIMEZONE
TZID:Europe/London
TZURL:https://tzurl.org/zoneinfo/Europe/London
X-LIC-LOCATION:Europe/London
BEGIN:DAYLIGHT
TZOFFSETFROM:+0000
TZOFFSETTO:+0100
TZNAME:BST
DTSTART:20210328T020000Z
RRULE:FREQ=YEARLY;BYMONTH=3;BYDAY=-1SU
END:DAYLIGHT
BEGIN:STANDARD
TZOFFSETFROM:+0100
TZOFFSETTO:+0000
TZNAME:GMT
DTSTART:20211031T020000Z
RRULE:FREQ=YEARLY;BYMONTH=10;BYDAY=-1SU
END:STANDARD
END:VTIMEZONE
BEGIN:VEVENT
SUMMARY:Nettlebed Naturist Walk Friday 28th May 2021
DTSTAMP:20201223T105503Z
SEQUENCE:0
UID:6223-8-0712e666d78c35a5e0181a336d457050@bn.org.uk
ORGANIZER;CN="Andrew Roch":notifications@bn.org.uk
DESCRIPTION:\n	Nettlebed Naturist Walk – 28 May 2021 \n\n\n\n	 \n\n\n
	\n	Join us for a 7 mile naturist walk starting at/returning to Nettlebed\,
	 Oxfordshire\, through the west end of the Chilterns.  Friday 28 May 2021
	\, 12.00pm to 5.30pm.\n\n\n\n	The walk is quite hilly with a few steep cli
	mbs.  The circular route follows a network of public footpaths including 
	the Chiltern Way\, Shakespeare’s Way and Oxfordshire Way\, through the C
	hilterns in woodland and fields before heading back to the start point. Th
	e walk is slightly less remote than some so we are more likely to encounte
	r other walkers in this popular region.\n\n\n\n	The event is being organis
	ed by British Naturism Eastern Region in association with the Milton Keyne
	s Naturist Meet and Greet Group.  It is open to all members of British Na
	turism and other naturist (walking) groups\; anyone new to naturism or to 
	naturist walking is welcome too.  When booking\, please state whether you
	 are a member of BN or other naturist groups.\n\n\n\n	 For further inform
	ation or to book onto this event\, please contact Andrew Roch or Amanda\, 
	Walks Coordinator\, via email: easternwalks@bn.org.uk giving your name\, m
	obile phone number and membership status.  Details of the meeting point a
	nd other information will be provided when your booking is confirmed.\n
DTSTART:20210528T110000Z
END:VEVENT
END:VCALENDAR
