BEGIN:VCALENDAR
VERSION:2.0
PRODID:-//InvisionCommunity Events 5.0.18//EN
METHOD:PUBLISH
CALSCALE:GREGORIAN
REFRESH-INTERVAL:PT15M
X-PUBLISHED-TTL:PT15M
X-WR-CALNAME:Eastern
NAME:Eastern
BEGIN:VTIMEZONE
TZID:Europe/London
TZURL:https://tzurl.org/zoneinfo/Europe/London
X-LIC-LOCATION:Europe/London
BEGIN:DAYLIGHT
TZOFFSETFROM:+0000
TZOFFSETTO:+0100
TZNAME:BST
DTSTART:20210328T020000Z
RRULE:FREQ=YEARLY;BYMONTH=3;BYDAY=-1SU
END:DAYLIGHT
BEGIN:STANDARD
TZOFFSETFROM:+0100
TZOFFSETTO:+0000
TZNAME:GMT
DTSTART:20211031T020000Z
RRULE:FREQ=YEARLY;BYMONTH=10;BYDAY=-1SU
END:STANDARD
END:VTIMEZONE
BEGIN:VEVENT
SUMMARY:Aston Abbotts Naturist Walk
DTSTAMP:20201222T172123Z
SEQUENCE:0
UID:6222-8-0712e666d78c35a5e0181a336d457050@bn.org.uk
ORGANIZER;CN="Andrew Roch":notifications@bn.org.uk
DESCRIPTION:\n	Join us for a 9 mile naturist walk starting at/returning 
	to Aston Abbotts\, Buckinghamshire\, through the Vale of Aylesbury.  Frid
	ay 07 May 2021\, 12.30pm to 5.30pm.\n\n\n\n	The walk is mainly flat with s
	ome low level hills passing through grassland\, agricultural fields and op
	en countryside.  The circular route follows a network of public footpaths
	 through part of the Vale of Aylesbury before heading back to the start po
	int across more open countryside.\n\n\n\n	The event is being organised by 
	British Naturism Eastern Region in association with the Milton Keynes Natu
	rist Meet and Greet Group.  It is open to all members of British Naturism
	 and other naturist (walking) groups\; anyone new to naturism or to naturi
	st walking is welcome too.  When booking\, please state whether you are a
	 member of BN or other naturist groups.\n\n\n\n	 For further information 
	or to book onto this event\, please contact Andrew Roch or Amanda\, Walks 
	Coordinator\, via email: easternwalks@bn.org.uk giving your name\, mobile 
	phone number and membership status.  Details of the meeting point and oth
	er information will be provided when your booking is confirmed.\n
DTSTART:20210507T113000Z
END:VEVENT
END:VCALENDAR
