BEGIN:VCALENDAR
VERSION:2.0
PRODID:-//InvisionCommunity Events 5.0.18//EN
METHOD:PUBLISH
CALSCALE:GREGORIAN
REFRESH-INTERVAL:PT15M
X-PUBLISHED-TTL:PT15M
X-WR-CALNAME:South West
NAME:South West
BEGIN:VTIMEZONE
TZID:Europe/London
TZURL:https://tzurl.org/zoneinfo/Europe/London
X-LIC-LOCATION:Europe/London
BEGIN:DAYLIGHT
TZOFFSETFROM:+0000
TZOFFSETTO:+0100
TZNAME:BST
DTSTART:20200329T020000Z
RRULE:FREQ=YEARLY;BYMONTH=3;BYDAY=-1SU
END:DAYLIGHT
BEGIN:STANDARD
TZOFFSETFROM:+0100
TZOFFSETTO:+0000
TZNAME:GMT
DTSTART:20201025T020000Z
RRULE:FREQ=YEARLY;BYMONTH=10;BYDAY=-1SU
END:STANDARD
END:VTIMEZONE
BEGIN:VEVENT
SUMMARY:Wales Firebreak Chat
DTSTAMP:20201106T144205Z
SEQUENCE:0
UID:6197-4-0712e666d78c35a5e0181a336d457050@bn.org.uk
ORGANIZER;CN="tombuc2":notifications@bn.org.uk
DESCRIPTION:\n	Throughout  the Wales Firebreak\, Nudie Dudies are exten
	ding a warm welcome/croeso to BN members across Wales to come and join us 
	at our regular Zoom firebreak chats on:\n\n\n\n		Sundays at 6.00pm  \n	\
	n	\n		Tuesdays at 8.00pm  \n	\n\n	Bring warmth\, wit and wisdom\, your fa
	vourite beverage. Dress optional 🙂\n\n\n\n	Zoom links are under Wales F
	irebreak Chats in the Meet and Greet section in the members forum \n
DTSTART:20201108T180000Z
DTEND:20201108T000000Z
END:VEVENT
END:VCALENDAR
