BEGIN:VCALENDAR
VERSION:2.0
PRODID:-//InvisionCommunity Events 5.0.18//EN
METHOD:PUBLISH
CALSCALE:GREGORIAN
REFRESH-INTERVAL:PT15M
X-PUBLISHED-TTL:PT15M
X-WR-CALNAME:Scotland and North East (SANER)
NAME:Scotland and North East (SANER)
BEGIN:VTIMEZONE
TZID:Europe/London
TZURL:https://tzurl.org/zoneinfo/Europe/London
X-LIC-LOCATION:Europe/London
BEGIN:DAYLIGHT
TZOFFSETFROM:+0000
TZOFFSETTO:+0100
TZNAME:BST
DTSTART:20200329T020000Z
RRULE:FREQ=YEARLY;BYMONTH=3;BYDAY=-1SU
END:DAYLIGHT
BEGIN:STANDARD
TZOFFSETFROM:+0100
TZOFFSETTO:+0000
TZNAME:GMT
DTSTART:20201025T020000Z
RRULE:FREQ=YEARLY;BYMONTH=10;BYDAY=-1SU
END:STANDARD
END:VTIMEZONE
BEGIN:VEVENT
SUMMARY:Virtual Quiz Night
DTSTAMP:20201013T193535Z
SEQUENCE:0
UID:6184-3-0712e666d78c35a5e0181a336d457050@bn.org.uk
ORGANIZER;CN="GaryNors":notifications@bn.org.uk
DESCRIPTION:\n	 \n\n\n\n	We are going to have our 30th Weekly Virtual Q
	uiz Night from Northern Ireland\, and you are very welcome to join us \n\
	n\n\n	We are looking forward to another entertaining evening before the BN
	 Pub Chat.  October is ladies month so all the questions will be from som
	e of our female participants.\n\n\n\n	The Login details for the ZOOM meeti
	ng are on the Forum Thread for \"Virtual Quiz Night\"\n\n\n\n	Looking forw
	ard to seeing you then \n\n\n\n	 \n\n\n\n	Any questions or problems conta
	ct us @GaryNors and we will try to help\n\n\n\n	 \n\n\n\n	 \n\n\n\n	 \n
DTSTART:20201016T180000Z
DTEND:20201016T200000Z
END:VEVENT
END:VCALENDAR
