BEGIN:VCALENDAR
VERSION:2.0
PRODID:-//InvisionCommunity Events 5.0.18//EN
METHOD:PUBLISH
CALSCALE:GREGORIAN
REFRESH-INTERVAL:PT15M
X-PUBLISHED-TTL:PT15M
X-WR-CALNAME:Yorkshire and East Midlands
NAME:Yorkshire and East Midlands
BEGIN:VTIMEZONE
TZID:Europe/London
TZURL:https://tzurl.org/zoneinfo/Europe/London
X-LIC-LOCATION:Europe/London
BEGIN:DAYLIGHT
TZOFFSETFROM:+0000
TZOFFSETTO:+0100
TZNAME:BST
DTSTART:20200329T020000Z
RRULE:FREQ=YEARLY;BYMONTH=3;BYDAY=-1SU
END:DAYLIGHT
BEGIN:STANDARD
TZOFFSETFROM:+0100
TZOFFSETTO:+0000
TZNAME:GMT
DTSTART:20201025T020000Z
RRULE:FREQ=YEARLY;BYMONTH=10;BYDAY=-1SU
END:STANDARD
END:VTIMEZONE
BEGIN:VEVENT
SUMMARY:Garden Visit east of Lincoln
DTSTAMP:20200812T223113Z
SEQUENCE:0
UID:6136-6-0712e666d78c35a5e0181a336d457050@bn.org.uk
ORGANIZER;CN="Andrew Calow":notifications@bn.org.uk
DESCRIPTION:\n	Please note: this is not a BN event and it's nothing to d
	o with me. I've been notified of it as follows:\n\n\n\n	\n		Quote\n	\n\n	\
	n		\n			I've got permission for a clothes optional garden visit to Goltho 
	Gardens near Lincoln on Sunday 16 August 10am till 12pm.\n		\n	\n\n\n\n	Th
	e gardens are located on the Lincoln to Wragby Road and are\n\n\n\n	A fami
	ly-run\, 4.5 acre garden with year-round interest in colour and texture. 
	 Goltho Gardens has been dubbed “one of the great gardens of the futu
	re”.  (Sue Hoy\, Lincolnshire Life.)\n\n\n\n	The garden boasts a long g
	rass walk flanked by abundantly-planted borders\, from which a network of 
	paths meander.  The nut walk\, delightful pæony and rose gardens and stu
	nning wildflower meadow are at their best in spring and early summer.  A 
	prairie border and gravel garden provide late summer and autumnal interest
	.  The potager’s geometric planting provides the teashop with delicious
	 herbs and vegetables.\n\n\n\n	Many of the plants are propagated on site a
	nd can be purchased in the nursery.\n\n\n\n	The teashop serves local food\
	, home-cooked.\n\n\n\n	Goltho Gardens and Nursery\, Lincoln Road\, Goltho\
	, Market Rasen\, Lincolnshire\, LN8 5NF\n\n\n\n	This is a small but pretty
	 garden. Entry fee £5\, pay on entry.\n\n\n\n	The car park is exposed to 
	the road so probably best to change in the garden.\n\n\n\n	The gardens ope
	n to the general public at 12pm\, so we ask you to be dressed again by the
	n. \n\n\n\n	The teashop will be open for lunch and drinks from 12pm.\n\n\n
	\n	The email giving details was sent from c.j.petchey@ntlworld.com\n\n\n\n
		 \n\n
DTSTART:20200816T090000Z
DTEND:20200816T110000Z
END:VEVENT
END:VCALENDAR
