BEGIN:VCALENDAR
VERSION:2.0
PRODID:-//InvisionCommunity Events 5.0.18//EN
METHOD:PUBLISH
CALSCALE:GREGORIAN
REFRESH-INTERVAL:PT15M
X-PUBLISHED-TTL:PT15M
X-WR-CALNAME:North West
NAME:North West
BEGIN:VTIMEZONE
TZID:Europe/London
TZURL:https://tzurl.org/zoneinfo/Europe/London
X-LIC-LOCATION:Europe/London
BEGIN:DAYLIGHT
TZOFFSETFROM:+0000
TZOFFSETTO:+0100
TZNAME:BST
DTSTART:20200329T020000Z
RRULE:FREQ=YEARLY;BYMONTH=3;BYDAY=-1SU
END:DAYLIGHT
BEGIN:STANDARD
TZOFFSETFROM:+0100
TZOFFSETTO:+0000
TZNAME:GMT
DTSTART:20201025T020000Z
RRULE:FREQ=YEARLY;BYMONTH=10;BYDAY=-1SU
END:STANDARD
END:VTIMEZONE
BEGIN:VEVENT
SUMMARY:Cumbria Beach Day
DTSTAMP:20200727T205710Z
SEQUENCE:0
UID:6127-5-0712e666d78c35a5e0181a336d457050@bn.org.uk
ORGANIZER;CN="Ron.O":notifications@bn.org.uk
DESCRIPTION:\n\n	A Beach Day in Cumbria\n\n\n\n	The North West outreach 
	group are holding an unofficial beach day at Roanhead beach in Cumbria\n\n
	\n\n	This will be on the 8th August. We should be arriving at the car park
	 around 10.30 am for the 2 miles walk to the best beach location.\n\n\n\n
		We will be splitting into groups of 6 with 2m social distancing being ap
	plied.\n\n\n\n	The high tide is 15.13 - so perfect. The 'what3words' for 
	the car park are: pull.page.driverThe best beach location for the skinny 
	dip is: wealth.walkaway.winning\nThe maximum attendance permitted is 30\,
	 so please indicate if you intend to attend.\n\n\n\n	Email: ron.ohare@bn.o
	rg.uk\n\n\n\n	 \n\n\n\n	\n\n\n	 \n\n
DTSTART:20200808T093000Z
END:VEVENT
END:VCALENDAR
