BEGIN:VCALENDAR
VERSION:2.0
PRODID:-//InvisionCommunity Events 5.0.18//EN
METHOD:PUBLISH
CALSCALE:GREGORIAN
REFRESH-INTERVAL:PT15M
X-PUBLISHED-TTL:PT15M
X-WR-CALNAME:Irish Naturist Association
NAME:Irish Naturist Association
BEGIN:VTIMEZONE
TZID:Europe/London
TZURL:https://tzurl.org/zoneinfo/Europe/London
X-LIC-LOCATION:Europe/London
BEGIN:DAYLIGHT
TZOFFSETFROM:+0000
TZOFFSETTO:+0100
TZNAME:BST
DTSTART:20200329T020000Z
RRULE:FREQ=YEARLY;BYMONTH=3;BYDAY=-1SU
END:DAYLIGHT
BEGIN:STANDARD
TZOFFSETFROM:+0100
TZOFFSETTO:+0000
TZNAME:GMT
DTSTART:20201025T020000Z
RRULE:FREQ=YEARLY;BYMONTH=10;BYDAY=-1SU
END:STANDARD
END:VTIMEZONE
BEGIN:VEVENT
SUMMARY:Naked Qigong on the beach
DTSTAMP:20200726T073733Z
SEQUENCE:0
UID:6122-24-0712e666d78c35a5e0181a336d457050@bn.org.uk
ORGANIZER;CN="Ron.O":notifications@bn.org.uk
DESCRIPTION:\n\n	\n\n\n\n	All welcome to our FREE naked qigong/taichi cl
	ass on White Rock Beach\, followed by naked swim\, of course.\n\n\n\n	Feel
	 free to bring some food to share with other naturists!\n\n\n\n	This event
	 organised by Irish Naturist Association is free of charge and open to all
	 people interested in life-affirming activities!\n\n\n\n	Why naked? Partak
	ing in non-sexual social nudity promotes positively some mental health ben
	efits such as an increased self-esteem\, happiness and life satisfaction.\
	n\n
DTSTART:20200816T090000Z
DTEND:20200816T100000Z
END:VEVENT
END:VCALENDAR
