BEGIN:VCALENDAR
VERSION:2.0
PRODID:-//InvisionCommunity Events 5.0.18//EN
METHOD:PUBLISH
CALSCALE:GREGORIAN
REFRESH-INTERVAL:PT15M
X-PUBLISHED-TTL:PT15M
X-WR-CALNAME:Yorkshire and East Midlands
NAME:Yorkshire and East Midlands
BEGIN:VTIMEZONE
TZID:Europe/London
TZURL:https://tzurl.org/zoneinfo/Europe/London
X-LIC-LOCATION:Europe/London
BEGIN:DAYLIGHT
TZOFFSETFROM:+0000
TZOFFSETTO:+0100
TZNAME:BST
DTSTART:20200329T020000Z
RRULE:FREQ=YEARLY;BYMONTH=3;BYDAY=-1SU
END:DAYLIGHT
BEGIN:STANDARD
TZOFFSETFROM:+0100
TZOFFSETTO:+0000
TZNAME:GMT
DTSTART:20201025T020000Z
RRULE:FREQ=YEARLY;BYMONTH=10;BYDAY=-1SU
END:STANDARD
END:VTIMEZONE
BEGIN:VEVENT
SUMMARY:Burrows Gardens Visit
DTSTAMP:20200723T185945Z
SEQUENCE:0
UID:6120-6-0712e666d78c35a5e0181a336d457050@bn.org.uk
ORGANIZER;CN="Andrew Calow":notifications@bn.org.uk
DESCRIPTION:\n	A second visit in 2020!\n\n\n\n	Once again there will be 
	a visit to the Burrows Gardens in 2020.\n\n\n\n	The cost will be the same 
	as last year\, i.e. BN/INF members £7-50\, Non members £10-00.\n\n\n\n	L
	ocated just off the main Ashbourne to Derby road (A52)\, on the Derby side
	 of Brailsford\, the gardens are approached via a tree lined avenue\, at t
	he end of which is parking on hard standing - any overflow vehicles can pa
	rk on the paddock.\n\n\n\n	Tea and Coffee will be available\, as well as d
	elicious home baked cakes\n\n\n\n	Advance tickets now available  at \n\n\
	n\n https://www.tickettailor.com/events/britishnaturism/405217#\n\n\n	Ther
	e have been reports in recent years in BN Magazine.  The glowing comments
	 below come from just one  report of the previous visit the year before:\
	n\n\n\n	\n		Quote\n	\n\n	\n		\n			\"What a gem these gardens turned out to
	 be. The gardens [...] are not difficult to find and are essentially in tw
	o parts. One part on one side of the house has extensive lawns\, a tennis 
	court and some formally laid out lawns. On the other side of the house the
	re are more lawns but the main feature must be the reflecting pond in fron
	t of an Italian style temple.\"\n		\n	\n\n\n\n	DE in BN  209\n\n\n\n	 \n
	\n\n\n	 \n\n\n\n	\n
DTSTART:20200822T110000Z
DTEND:20200822T153000Z
END:VEVENT
END:VCALENDAR
