BEGIN:VCALENDAR
VERSION:2.0
PRODID:-//InvisionCommunity Events 5.0.18//EN
METHOD:PUBLISH
CALSCALE:GREGORIAN
REFRESH-INTERVAL:PT15M
X-PUBLISHED-TTL:PT15M
X-WR-CALNAME:Eastern
NAME:Eastern
BEGIN:VTIMEZONE
TZID:Europe/London
TZURL:https://tzurl.org/zoneinfo/Europe/London
X-LIC-LOCATION:Europe/London
BEGIN:DAYLIGHT
TZOFFSETFROM:+0000
TZOFFSETTO:+0100
TZNAME:BST
DTSTART:20200329T020000Z
RRULE:FREQ=YEARLY;BYMONTH=3;BYDAY=-1SU
END:DAYLIGHT
BEGIN:STANDARD
TZOFFSETFROM:+0100
TZOFFSETTO:+0000
TZNAME:GMT
DTSTART:20201025T020000Z
RRULE:FREQ=YEARLY;BYMONTH=10;BYDAY=-1SU
END:STANDARD
END:VTIMEZONE
BEGIN:VEVENT
SUMMARY:Wendover Naturist Walk
DTSTAMP:20200718T111852Z
SEQUENCE:0
UID:6116-8-0712e666d78c35a5e0181a336d457050@bn.org.uk
ORGANIZER;CN="John Gelder":notifications@bn.org.uk
DESCRIPTION:\n\n	Join us for a 7 mile naturist walk event starting at/re
	turning to Wendover\, including part of the Chiltern Hills.  Friday 9 Oct
	ober 2020\, 12.00noon to 5.00pm.\n\n\n\n	Start/Finish point is accessible 
	by train to Wendover Station on the Chiltern Line (London Marylebone to Ay
	lesbury Vale Parkway via Amersham).\n\n\n\n	Walkers will be divided into t
	hree groups leaving at 12:00\, 12:30 and 1:00pm.  Each group will compris
	e of up to six people (in accordance with current COVID-19 regulations for
	 outdoor meetings/activities).  Please note that everyone participating i
	n the walk will be expected to maintain the required two meters social dis
	tancing from each other prior to and during the walk.\n\n\n\n	Starting at 
	the market town of Wendover\, we proceed on local footpaths to Bacombe Hil
	l Wood.  The walk is mainly through woodland with some open country\, alo
	ng mostly flat terrain with some slight to moderate hills as we approach t
	he village of Dunsmore on the Hill and then mainly downhill across open co
	untryside back to Wendover.\n\n\n\n	The event is being organised by Britis
	h Naturism Eastern Region in association with the Milton Keynes Naturist M
	eet and Greet Group.  It is open to all members of British Naturism and o
	ther naturist (walking) groups\; anyone new to naturism or to naturist wal
	king is welcome too.  When booking\, please state whether you are a membe
	r of BN or other naturist groups.\n\n\n\n	You must be fit enough to walk u
	p to nine miles\, including moderate hills.  Please only book if you are 
	certain you can attend as places are limited.  However\, you should NOT a
	ttend if you have any Coronavirus symptoms or need to self-isolate because
	 a member of your household has symptoms or if you have been asked to self
	-isolate after coming into contact with someone who has symptoms.\n\n\n\n	
	For further information or to book onto this event\, please contact John G
	elder\, Walks Coordinator\, via email: easternwalks@bn.org.uk giving your 
	name\, mobile phone number and membership status.  Details of the meeting
	 point and other information will be provided when your booking is confirm
	ed. \n\n
DTSTART:20201009T110000Z
DTEND:20201009T160000Z
END:VEVENT
END:VCALENDAR
