BEGIN:VCALENDAR
VERSION:2.0
PRODID:-//InvisionCommunity Events 5.0.18//EN
METHOD:PUBLISH
CALSCALE:GREGORIAN
REFRESH-INTERVAL:PT15M
X-PUBLISHED-TTL:PT15M
X-WR-CALNAME:London and South East (LASER)
NAME:London and South East (LASER)
BEGIN:VTIMEZONE
TZID:Europe/London
TZURL:https://tzurl.org/zoneinfo/Europe/London
X-LIC-LOCATION:Europe/London
BEGIN:DAYLIGHT
TZOFFSETFROM:+0000
TZOFFSETTO:+0100
TZNAME:BST
DTSTART:20200329T020000Z
RRULE:FREQ=YEARLY;BYMONTH=3;BYDAY=-1SU
END:DAYLIGHT
BEGIN:STANDARD
TZOFFSETFROM:+0100
TZOFFSETTO:+0000
TZNAME:GMT
DTSTART:20201025T020000Z
RRULE:FREQ=YEARLY;BYMONTH=10;BYDAY=-1SU
END:STANDARD
END:VTIMEZONE
BEGIN:VEVENT
SUMMARY:Macmillan Naked Mad Hatter Tea Party Max's Garden
DTSTAMP:20200709T090429Z
SEQUENCE:0
UID:6109-7-0712e666d78c35a5e0181a336d457050@bn.org.uk
ORGANIZER;CN="michaeld":notifications@bn.org.uk
DESCRIPTION:\n\n	Yes\, a naked Mad Hatter tea party in aid of Macmillan 
	cancer research.\n\n\n\n	Enjoy some delicious cakes and meet new friends!\
	n\n\n\n	This will be a fun day with games\, prize for the best hat creatio
	n and full use of our spa.\n\n\n\n	Why not challenge your friends to take 
	part in this unique event\, all in aid of a great cause\,\n\n\n\n	we will 
	still have social distance measures in place\, so limited numbers. Lauren 
	will be here to paint your face or body donations to Macmillan.\n\n\n\n	Fo
	r more info or to book contact Michael or Fiona\n\n\n\n	07766826972 or 078
	54377427 maxsgarden.net\n\n\n\n	 \n\n\n\n	\n	blank logo ANIMATED.mp4\n
DTSTART:20200815T090000Z
DTEND:20200815T150000Z
END:VEVENT
END:VCALENDAR
