BEGIN:VCALENDAR
VERSION:2.0
PRODID:-//InvisionCommunity Events 5.0.18//EN
METHOD:PUBLISH
CALSCALE:GREGORIAN
REFRESH-INTERVAL:PT15M
X-PUBLISHED-TTL:PT15M
X-WR-CALNAME:London and South East (LASER)
NAME:London and South East (LASER)
BEGIN:VTIMEZONE
TZID:Europe/London
TZURL:https://tzurl.org/zoneinfo/Europe/London
X-LIC-LOCATION:Europe/London
BEGIN:DAYLIGHT
TZOFFSETFROM:+0000
TZOFFSETTO:+0100
TZNAME:BST
DTSTART:20200329T020000Z
RRULE:FREQ=YEARLY;BYMONTH=3;BYDAY=-1SU
END:DAYLIGHT
BEGIN:STANDARD
TZOFFSETFROM:+0100
TZOFFSETTO:+0000
TZNAME:GMT
DTSTART:20201025T020000Z
RRULE:FREQ=YEARLY;BYMONTH=10;BYDAY=-1SU
END:STANDARD
END:VTIMEZONE
BEGIN:VEVENT
SUMMARY:Naturist Walk in West Hampshire
DTSTAMP:20200705T083426Z
SEQUENCE:0
UID:6094-7-0712e666d78c35a5e0181a336d457050@bn.org.uk
ORGANIZER;CN="JonWilliams":notifications@bn.org.uk
DESCRIPTION:\n\n	Why not join other BN members for an afternoon of naked
	 walking in West Hampshire?\n\n\n\n	We have planned a naturist walk throug
	h the Hampshire countryside on Friday\, 14 August - the walk will start at
	 the Mill Arms pub in Dunbridge where we will hold a naked dining event l
	ater that day\n\n\n\n	The walk is a separate event to the evening meal - y
	ou are welcome to book for this as well\, but you are also welcome to enjo
	y one or the other. More details of the dining event can be found Here\n\
	n\n\n	The walk will leave from the pub at around 1130\, although the pub w
	ill be open from 1100. There is a large car park behind the pub and the ow
	ner is happy for us to leave cars there during the walk. The pub is also v
	ery convenient for public transport as it is a two minute walk from the st
	ation at Dunbridge and Mottisfont which has regular services from Southamp
	ton and Salisbury. This could be a great option if you fancy a pint (or tw
	o) as a reward after the walk!\n\n\n\n	The walk will be led by Nigel Butch
	er - a very experienced naturist walker who knows the area well. The walk 
	is around 10 miles and has plenty of variety. It doesn’t have any steep 
	hills\, but does have a number of stiles along the route. It should be pos
	sible to walk most of the route naked (conditions permitting!) but you wil
	l need to bring along something to use as a cover up to use at a couple of
	 points when we will pass through villages and should we meet other groups
	 where the walk leader feels it is appropriate to cover up\n\n\n\n	We’l
	l also stop a couple of times along the route\, so you may want to bring a
	 picnic lunch with you - there won’t be anywhere to buy food along the r
	oute\n\n\n\n	Well-behaved dogs will be welcome on the walk\, but will nee
	d to be on leads for some sections when we will be passing through fields 
	with livestock\n\n\n\n	We should be back at the pub around 1800 - which wi
	ll leave plenty of time to get ‘changed’ for the naked dining event (o
	r not) or to enjoy a drink before heading home\n\n\n\n	We will follow gove
	rnment guidelines together with BN best practice around social distancin
	g during the event. This may mean that we need to restrict numbers on the 
	walk to 30 people and that we will need to walk in separated groups of six
	 people on the day\n\n\n\n	As such\, it will be necessary to register for 
	this event in advance - you can do this by sending me a PM with your name 
	and email address. You can also email me at jon.williams@bn.org.uk\n\n\n\n
		I’d also be happy to answer any questions by PM or email\n\n\n\n	 \n\n
DTSTART:20200814T100000Z
DTEND:20200814T170000Z
END:VEVENT
END:VCALENDAR
