BEGIN:VCALENDAR
VERSION:2.0
PRODID:-//InvisionCommunity Events 5.0.18//EN
METHOD:PUBLISH
CALSCALE:GREGORIAN
REFRESH-INTERVAL:PT15M
X-PUBLISHED-TTL:PT15M
X-WR-CALNAME:South West
NAME:South West
BEGIN:VTIMEZONE
TZID:Europe/London
TZURL:https://tzurl.org/zoneinfo/Europe/London
X-LIC-LOCATION:Europe/London
BEGIN:DAYLIGHT
TZOFFSETFROM:+0000
TZOFFSETTO:+0100
TZNAME:BST
DTSTART:20200329T020000Z
RRULE:FREQ=YEARLY;BYMONTH=3;BYDAY=-1SU
END:DAYLIGHT
BEGIN:STANDARD
TZOFFSETFROM:+0100
TZOFFSETTO:+0000
TZNAME:GMT
DTSTART:20201025T020000Z
RRULE:FREQ=YEARLY;BYMONTH=10;BYDAY=-1SU
END:STANDARD
END:VTIMEZONE
BEGIN:VEVENT
SUMMARY:South Wales Summer Solstice Meet and Greet
DTSTAMP:20200615T232107Z
SEQUENCE:0
UID:6085-4-0712e666d78c35a5e0181a336d457050@bn.org.uk
ORGANIZER;CN="tombuc2":notifications@bn.org.uk
DESCRIPTION:\n\n	Hi i all\n\n\n\n	There's a South Wales Summer Solstice 
	Special Zoom Meet &amp\;Greet thingy  on Sunday 21st June from 6pm (our t
	raditional post Nudie Dudies swim pub meet) going on until around 8.00 unt
	il a lockdown lock-in 🙂  Everyone from South Wales is welcome to joi
	n us\, but also any friends across the Bridge also in our shared  South W
	estern Region .\n\n\n\n	There is much sense in the North / South regional 
	split but friends in the north / yn yr gogledd are very welcome too. If Ir
	eland can work across border\, we can link hands over mid-Wales 🙂 .
	 Bring your favourite tipple\, dress is optional and no one has to go fu
	rther than 5 miles 🙂 . On this occasion we will not fine the English 
	lol.\n\n\n\n	As this calendar is rightly open to the browsing public\, the
	 link to join us is posted in a similar post within the Members Area.  Pl
	ease click here to get to that post\,  which also contains the Zoom link
	. Please keep that link within BN circles and genuine trusted naturists\n\
	n\n\n	We want to be inclusive\, but not to Zoombombers 🙂 \n\n
DTSTART:20200621T170000Z
DTEND:20200621T190000Z
END:VEVENT
END:VCALENDAR
