BEGIN:VCALENDAR
VERSION:2.0
PRODID:-//InvisionCommunity Events 5.0.18//EN
METHOD:PUBLISH
CALSCALE:GREGORIAN
REFRESH-INTERVAL:PT15M
X-PUBLISHED-TTL:PT15M
X-WR-CALNAME:Scotland and North East (SANER)
NAME:Scotland and North East (SANER)
BEGIN:VTIMEZONE
TZID:Europe/London
TZURL:https://tzurl.org/zoneinfo/Europe/London
X-LIC-LOCATION:Europe/London
BEGIN:DAYLIGHT
TZOFFSETFROM:+0000
TZOFFSETTO:+0100
TZNAME:BST
DTSTART:20200329T020000Z
RRULE:FREQ=YEARLY;BYMONTH=3;BYDAY=-1SU
END:DAYLIGHT
BEGIN:STANDARD
TZOFFSETFROM:+0100
TZOFFSETTO:+0000
TZNAME:GMT
DTSTART:20201025T020000Z
RRULE:FREQ=YEARLY;BYMONTH=10;BYDAY=-1SU
END:STANDARD
END:VTIMEZONE
BEGIN:VEVENT
SUMMARY:Virtual Quiz Night
DTSTAMP:20200605T105952Z
SEQUENCE:0
UID:6074-3-0712e666d78c35a5e0181a336d457050@bn.org.uk
ORGANIZER;CN="GaryNors":notifications@bn.org.uk
DESCRIPTION:\n\n	 \n\n\n\n	We are going to have our Virtual Quiz Night 
	in Northern Ireland\, and you are very welcome to join us \n\n\n\n	 \n	\n
	\n		The Login details for the ZOOM meeting are on the Forum Thread for \"V
	irtual Quiz Night\"\n	\n\n\n\n	Looking forward to seeing you then \n\n\n\n
		 \n\n\n\n	Any questions or problems contact me @Gary89 and I will try to
	 help\n\n\n\n	 \n\n\n\n	 \n\n\n\n	 \n\n
DTSTART:20200612T180000Z
DTEND:20200612T200000Z
ATTENDEE;CN="Timmo";CUTYPE=INDIVIDUAL;PARTSTAT=ACCEPTED:noti
	fications@bn.org.uk
ATTENDEE;CN="kitoff";CUTYPE=INDIVIDUAL;PARTSTAT=ACCEPTED:not
	ifications@bn.org.uk
ATTENDEE;CN="Ali_paul";CUTYPE=INDIVIDUAL;PARTSTAT=ACCEPTED:n
	otifications@bn.org.uk
ATTENDEE;CN="dave_n_annie";CUTYPE=INDIVIDUAL;PARTSTAT=ACCEPT
	ED:notifications@bn.org.uk
END:VEVENT
END:VCALENDAR
