BEGIN:VCALENDAR
VERSION:2.0
PRODID:-//InvisionCommunity Events 5.0.18//EN
METHOD:PUBLISH
CALSCALE:GREGORIAN
REFRESH-INTERVAL:PT15M
X-PUBLISHED-TTL:PT15M
X-WR-CALNAME:Scotland and North East (SANER)
NAME:Scotland and North East (SANER)
BEGIN:VTIMEZONE
TZID:Europe/London
TZURL:https://tzurl.org/zoneinfo/Europe/London
X-LIC-LOCATION:Europe/London
BEGIN:DAYLIGHT
TZOFFSETFROM:+0000
TZOFFSETTO:+0100
TZNAME:BST
DTSTART:20200329T020000Z
RRULE:FREQ=YEARLY;BYMONTH=3;BYDAY=-1SU
END:DAYLIGHT
BEGIN:STANDARD
TZOFFSETFROM:+0100
TZOFFSETTO:+0000
TZNAME:GMT
DTSTART:20201025T020000Z
RRULE:FREQ=YEARLY;BYMONTH=10;BYDAY=-1SU
END:STANDARD
END:VTIMEZONE
BEGIN:VEVENT
SUMMARY:Virtual Quiz Night
DTSTAMP:20200517T131117Z
SEQUENCE:0
UID:6059-3-0712e666d78c35a5e0181a336d457050@bn.org.uk
ORGANIZER;CN="GaryNors":notifications@bn.org.uk
DESCRIPTION:\n\n	We are going to have our 4th Virtual Quiz Night from No
	rthern Ireland\,  these are fun quizes\, no prizes and no entry fee.\n\n\
	n\n	Bring your own wine/beer/tea/coffee\n\n\n\n	You will need to download 
	the Zoom app to your phone or tablet or computer.\n\n\n\n	If you want to j
	oin in get in touch and we will give you sign in details\n\n\n\n	 \n\n
DTSTART:20200501T180000Z
DTEND:20200501T200000Z
RRULE:FREQ=WEEKLY;INTERVAL=1;UNTIL=20200507T230000;BYDAY=FR
END:VEVENT
END:VCALENDAR
