BEGIN:VCALENDAR
VERSION:2.0
PRODID:-//InvisionCommunity Events 5.0.18//EN
METHOD:PUBLISH
CALSCALE:GREGORIAN
REFRESH-INTERVAL:PT15M
X-PUBLISHED-TTL:PT15M
X-WR-CALNAME:Scotland and North East (SANER)
NAME:Scotland and North East (SANER)
BEGIN:VTIMEZONE
TZID:Europe/London
TZURL:https://tzurl.org/zoneinfo/Europe/London
X-LIC-LOCATION:Europe/London
BEGIN:DAYLIGHT
TZOFFSETFROM:+0000
TZOFFSETTO:+0100
TZNAME:BST
DTSTART:20200329T020000Z
RRULE:FREQ=YEARLY;BYMONTH=3;BYDAY=-1SU
END:DAYLIGHT
BEGIN:STANDARD
TZOFFSETFROM:+0100
TZOFFSETTO:+0000
TZNAME:GMT
DTSTART:20201025T020000Z
RRULE:FREQ=YEARLY;BYMONTH=10;BYDAY=-1SU
END:STANDARD
END:VTIMEZONE
BEGIN:VEVENT
SUMMARY:Virtual Quiz Night
DTSTAMP:20200517T130039Z
SEQUENCE:0
UID:6056-3-0712e666d78c35a5e0181a336d457050@bn.org.uk
ORGANIZER;CN="GaryNors":notifications@bn.org.uk
DESCRIPTION:\n\n	 \n\n\n\n	We are going to have a Virtual Quiz Night in
	 Northern Ireland\, \n\n\n\n	believe it or not this is our 10th week in a 
	row !!!\n\n\n\n	 \n\n\n\n	Please go to the SANER Events Calendar for Frid
	ay and let us know that you are coming.\n\n\n\n	The Login details for the 
	ZOOM meeting are on the Forum Thread for \"Virtual Quiz Night\"\n\n\n\n	Lo
	oking forward to seeing you then \n\n\n\n	 \n\n\n\n	Any questions or prob
	lems contact me @Gary89 and I will try to help\n\n\n\n	 \n\n\n\n	 \n\n\n
	\n	 \n\n
DTSTART:20200529T175000Z
DTEND:20200529T200000Z
ATTENDEE;CN="Timmo";CUTYPE=INDIVIDUAL;PARTSTAT=ACCEPTED:noti
	fications@bn.org.uk
ATTENDEE;CN="JohnF";CUTYPE=INDIVIDUAL;PARTSTAT=ACCEPTED:noti
	fications@bn.org.uk
ATTENDEE;CN="kitoff";CUTYPE=INDIVIDUAL;PARTSTAT=ACCEPTED:not
	ifications@bn.org.uk
ATTENDEE;CN="Andrew.Davies";CUTYPE=INDIVIDUAL;PARTSTAT=ACCEP
	TED:notifications@bn.org.uk
END:VEVENT
END:VCALENDAR
