BEGIN:VCALENDAR
VERSION:2.0
PRODID:-//InvisionCommunity Events 5.0.18//EN
METHOD:PUBLISH
CALSCALE:GREGORIAN
REFRESH-INTERVAL:PT15M
X-PUBLISHED-TTL:PT15M
X-WR-CALNAME:North West
NAME:North West
BEGIN:VTIMEZONE
TZID:Europe/London
TZURL:https://tzurl.org/zoneinfo/Europe/London
X-LIC-LOCATION:Europe/London
BEGIN:DAYLIGHT
TZOFFSETFROM:+0000
TZOFFSETTO:+0100
TZNAME:BST
DTSTART:20200329T020000Z
RRULE:FREQ=YEARLY;BYMONTH=3;BYDAY=-1SU
END:DAYLIGHT
BEGIN:STANDARD
TZOFFSETFROM:+0100
TZOFFSETTO:+0000
TZNAME:GMT
DTSTART:20201025T020000Z
RRULE:FREQ=YEARLY;BYMONTH=10;BYDAY=-1SU
END:STANDARD
END:VTIMEZONE
BEGIN:VEVENT
SUMMARY:Wigton Swim
DTSTAMP:20200306T162112Z
SEQUENCE:0
UID:5982-5-0712e666d78c35a5e0181a336d457050@bn.org.uk
ORGANIZER;CN="Ron.O":notifications@bn.org.uk
DESCRIPTION:\n\n	A Monthly Skinny Dip at the Wigton Pool Cumbria.\n\n\n\
	n	Postponed until 12th September.\n\n\n\n	Now in its second year! 14.00 -1
	6.00 \n\n\n\n	Follow this event on NW news online\n\n\n\n	Always the seco
	nd Saturday of the Month.\n\n\n\n	Come and join us for a 2 hour Naturist S
	wim at Cumbria's only all year round Naturist Swimming facility.\n\n\n\n	S
	till just £5 per person. No need to book Just turn up with photo I.D. and
	 proof of address. \n\n\n\n	This is an official GBSD Event and listed on 
	the Great British Skinny Dip Website\n\n\n\n	All genuine Naturists are wel
	come!\n\n\n\n	\n
DTSTART:20200808T130000Z
DTEND:20200808T150000Z
END:VEVENT
END:VCALENDAR
