BEGIN:VCALENDAR
VERSION:2.0
PRODID:-//InvisionCommunity Events 5.0.18//EN
METHOD:PUBLISH
CALSCALE:GREGORIAN
REFRESH-INTERVAL:PT15M
X-PUBLISHED-TTL:PT15M
X-WR-CALNAME:North West
NAME:North West
BEGIN:VTIMEZONE
TZID:Europe/London
TZURL:https://tzurl.org/zoneinfo/Europe/London
X-LIC-LOCATION:Europe/London
BEGIN:DAYLIGHT
TZOFFSETFROM:+0000
TZOFFSETTO:+0100
TZNAME:BST
DTSTART:20200329T020000Z
RRULE:FREQ=YEARLY;BYMONTH=3;BYDAY=-1SU
END:DAYLIGHT
BEGIN:STANDARD
TZOFFSETFROM:+0100
TZOFFSETTO:+0000
TZNAME:GMT
DTSTART:20201025T020000Z
RRULE:FREQ=YEARLY;BYMONTH=10;BYDAY=-1SU
END:STANDARD
END:VTIMEZONE
BEGIN:VEVENT
SUMMARY:Wigton Swim
DTSTAMP:20200306T161436Z
SEQUENCE:0
UID:5979-5-0712e666d78c35a5e0181a336d457050@bn.org.uk
ORGANIZER;CN="Ron.O":notifications@bn.org.uk
DESCRIPTION:\n\n	A Monthly Skinny Dip at the Wigton Pool Cumbria.\n\n\n\
	n	Now in its second year! 14.00 -16.00 \n\n\n\n	Follow this event on NW n
	ews online\n\n\n\n	Always the second Saturday of the Month.\n\n\n\n	Come a
	nd join us for a 2 hour Naturist Swim at Cumbria's only all year round Nat
	urist Swimming facility.\n\n\n\n	Still just £5 per person. No need to boo
	k Just turn up with photo I.D. and proof of address. \n\n\n\n	This is an 
	official GBSD Event and listed on the Great British Skinny Dip Website\n\n
	\n\n	All genuine Naturists are welcome!\n\n\n\n	\n
DTSTART:20200509T130000Z
DTEND:20200509T150000Z
END:VEVENT
END:VCALENDAR
