BEGIN:VCALENDAR
VERSION:2.0
PRODID:-//InvisionCommunity Events 5.0.18//EN
METHOD:PUBLISH
CALSCALE:GREGORIAN
REFRESH-INTERVAL:PT15M
X-PUBLISHED-TTL:PT15M
X-WR-CALNAME:North West
NAME:North West
BEGIN:VTIMEZONE
TZID:Europe/London
TZURL:https://tzurl.org/zoneinfo/Europe/London
X-LIC-LOCATION:Europe/London
BEGIN:DAYLIGHT
TZOFFSETFROM:+0000
TZOFFSETTO:+0100
TZNAME:BST
DTSTART:20200329T020000Z
RRULE:FREQ=YEARLY;BYMONTH=3;BYDAY=-1SU
END:DAYLIGHT
BEGIN:STANDARD
TZOFFSETFROM:+0100
TZOFFSETTO:+0000
TZNAME:GMT
DTSTART:20201025T020000Z
RRULE:FREQ=YEARLY;BYMONTH=10;BYDAY=-1SU
END:STANDARD
END:VTIMEZONE
BEGIN:VEVENT
SUMMARY:Naturist Visit to Glansevern Gardens - cancelled
DTSTAMP:20200224T121224Z
SEQUENCE:0
UID:5937-5-0712e666d78c35a5e0181a336d457050@bn.org.uk
ORGANIZER;CN="john.rodgers":notifications@bn.org.uk
DESCRIPTION:\n\n	16/07/20 - This visit has now been cancelled\n\n\n\n	I 
	have arranged a Naturist visit to Glansevern Gardens\, which are a few mil
	es south of Welshpool. I visited the gardens for the first time\,  in the
	 dead of winter when they were mostly dormant\, but I think they will be q
	uite stunning in the summer. There is also a lake which you can walk aroun
	d. The cost is £7 a person\, but please bring cash.\n\n\n	Picnics are not
	 allowed anywhere in the gardens. There is a cafe (which you will need to 
	be dressed to use)\, but understandably the opening of it is dependant on 
	numbers\, which can obviously vary a lot depending on the weather. I will 
	be looking at options both to get the facility open\, and to provide the o
	wner with some certainty as to whether or not it will be worthwhile. I wil
	l update this entry accordingly\, so please check here later.\n\n\n\n	Dogs
	 on a lead are welcome\, except in the cafe\,  but obviously you must cle
	an up after them.\n\n\n\n	Here is a link to the gardens website  http://w
	ww.glansevern.co.uk/index.html\n\n\n\n	 \n\n\n\n	 \n\n
DTSTART:20200804T120000Z
DTEND:20200804T160000Z
END:VEVENT
END:VCALENDAR
