BEGIN:VCALENDAR
VERSION:2.0
PRODID:-//InvisionCommunity Events 5.0.18//EN
METHOD:PUBLISH
CALSCALE:GREGORIAN
REFRESH-INTERVAL:PT15M
X-PUBLISHED-TTL:PT15M
X-WR-CALNAME:London and South East (LASER)
NAME:London and South East (LASER)
BEGIN:VTIMEZONE
TZID:Europe/London
TZURL:https://tzurl.org/zoneinfo/Europe/London
X-LIC-LOCATION:Europe/London
BEGIN:DAYLIGHT
TZOFFSETFROM:+0000
TZOFFSETTO:+0100
TZNAME:BST
DTSTART:20200329T020000Z
RRULE:FREQ=YEARLY;BYMONTH=3;BYDAY=-1SU
END:DAYLIGHT
BEGIN:STANDARD
TZOFFSETFROM:+0100
TZOFFSETTO:+0000
TZNAME:GMT
DTSTART:20201025T020000Z
RRULE:FREQ=YEARLY;BYMONTH=10;BYDAY=-1SU
END:STANDARD
END:VTIMEZONE
BEGIN:VEVENT
SUMMARY:Billy's Activity Week - The Naturist Foundation
DTSTAMP:20200221T083521Z
SEQUENCE:0
UID:5934-7-0712e666d78c35a5e0181a336d457050@bn.org.uk
ORGANIZER;CN="Vicky":notifications@bn.org.uk
DESCRIPTION:\n\n	Over a week of fun for all the family to enjoy. There w
	ill discos\, quizzes\, games\, sports and so much more!  \n\n\n\n	Campin
	g and caravan fees with or without electric hookups for the week are reas
	onably priced too.\n\n\n\n	For further information including booking check
	 out our website www.naturistfoundation.org\n\n\n
DTSTART:20200822T080000Z
DTEND:20200831T213000Z
END:VEVENT
END:VCALENDAR
