BEGIN:VCALENDAR
VERSION:2.0
PRODID:-//InvisionCommunity Events 5.0.18//EN
METHOD:PUBLISH
CALSCALE:GREGORIAN
REFRESH-INTERVAL:PT15M
X-PUBLISHED-TTL:PT15M
X-WR-CALNAME:London and South East (LASER)
NAME:London and South East (LASER)
BEGIN:VTIMEZONE
TZID:Europe/London
TZURL:https://tzurl.org/zoneinfo/Europe/London
X-LIC-LOCATION:Europe/London
BEGIN:DAYLIGHT
TZOFFSETFROM:+0000
TZOFFSETTO:+0100
TZNAME:BST
DTSTART:20200329T020000Z
RRULE:FREQ=YEARLY;BYMONTH=3;BYDAY=-1SU
END:DAYLIGHT
BEGIN:STANDARD
TZOFFSETFROM:+0100
TZOFFSETTO:+0000
TZNAME:GMT
DTSTART:20201025T020000Z
RRULE:FREQ=YEARLY;BYMONTH=10;BYDAY=-1SU
END:STANDARD
END:VTIMEZONE
BEGIN:VEVENT
SUMMARY:All that Jazz\, Blues and Real Ale 2020
DTSTAMP:20200221T081831Z
SEQUENCE:0
UID:5932-7-0712e666d78c35a5e0181a336d457050@bn.org.uk
ORGANIZER;CN="Vicky":notifications@bn.org.uk
DESCRIPTION:\n\n	A fantastic weekend of jazz\, blues and real ale in a n
	aturist setting.  Camping is available on our meadow with or without ele
	ctric hookups at very reasonable rates. \n\n\n\n	Tickets are a bargain at
	 just £60 for 4 days of entertainment. Day ticket prices: Thursday £16.
	00\, Friday £16.00\, Saturday £24.00 and Sunday £24.00.\n\n\n\n	The Tea
	 Pot cafe will be open throughout each day and a variety of food stalls w
	ill be on site. Alcoholic drinks and other refreshments will be available 
	in the Festival Bar and our very own Jubilee Bar.\n\n\n\n	For further info
	rmation and details on the lineup arranged for the weekend check out our w
	ebsite www.naturistfoundation.org  Bookings must also be completed via ou
	r website. \n\n\n
DTSTART:20200625T193000Z
DTEND:20200628T213000Z
END:VEVENT
END:VCALENDAR
