BEGIN:VCALENDAR
VERSION:2.0
PRODID:-//InvisionCommunity Events 5.0.18//EN
METHOD:PUBLISH
CALSCALE:GREGORIAN
REFRESH-INTERVAL:PT15M
X-PUBLISHED-TTL:PT15M
X-WR-CALNAME:London and South East (LASER)
NAME:London and South East (LASER)
BEGIN:VTIMEZONE
TZID:Europe/London
TZURL:https://tzurl.org/zoneinfo/Europe/London
X-LIC-LOCATION:Europe/London
BEGIN:DAYLIGHT
TZOFFSETFROM:+0000
TZOFFSETTO:+0100
TZNAME:BST
DTSTART:20200329T020000Z
RRULE:FREQ=YEARLY;BYMONTH=3;BYDAY=-1SU
END:DAYLIGHT
BEGIN:STANDARD
TZOFFSETFROM:+0100
TZOFFSETTO:+0000
TZNAME:GMT
DTSTART:20201025T020000Z
RRULE:FREQ=YEARLY;BYMONTH=10;BYDAY=-1SU
END:STANDARD
END:VTIMEZONE
BEGIN:VEVENT
SUMMARY:Naturist Foundation 5K Naked Run
DTSTAMP:20200220T211155Z
SEQUENCE:0
UID:5931-7-0712e666d78c35a5e0181a336d457050@bn.org.uk
ORGANIZER;CN="Vicky":notifications@bn.org.uk
DESCRIPTION:\n\n	This is the first of our 5K Naked Runs for 2020! Be it 
	jogging\, running or even walking this is a great well attended event. We 
	have introduced chip timing and there are medals for everyone. We also 
	have a 2K family fun run\, other fun runs\, stalls and music. So it’s a
	 day for all the family to enjoy! \n\n\n\n	Places must be booked online v
	ia our website www.naturistfoundation.org \n\n\n
DTSTART:20200517T103000Z
END:VEVENT
END:VCALENDAR
