BEGIN:VCALENDAR
VERSION:2.0
PRODID:-//InvisionCommunity Events 5.0.18//EN
METHOD:PUBLISH
CALSCALE:GREGORIAN
REFRESH-INTERVAL:PT15M
X-PUBLISHED-TTL:PT15M
X-WR-CALNAME:London and South East (LASER)
NAME:London and South East (LASER)
BEGIN:VTIMEZONE
TZID:Europe/London
TZURL:https://tzurl.org/zoneinfo/Europe/London
X-LIC-LOCATION:Europe/London
BEGIN:DAYLIGHT
TZOFFSETFROM:+0000
TZOFFSETTO:+0100
TZNAME:BST
DTSTART:20200329T020000Z
RRULE:FREQ=YEARLY;BYMONTH=3;BYDAY=-1SU
END:DAYLIGHT
BEGIN:STANDARD
TZOFFSETFROM:+0100
TZOFFSETTO:+0000
TZNAME:GMT
DTSTART:20201025T020000Z
RRULE:FREQ=YEARLY;BYMONTH=10;BYDAY=-1SU
END:STANDARD
END:VTIMEZONE
BEGIN:VEVENT
SUMMARY:Naturist Canal Boat Cruise on the Basingstoke canal includin
	g food
DTSTAMP:20200202T000151Z
SEQUENCE:0
UID:5854-7-0712e666d78c35a5e0181a336d457050@bn.org.uk
ORGANIZER;CN="Bernie":notifications@bn.org.uk
DESCRIPTION:\n\n	\n					\n						EVENT CANCELLED - SEE BELOW\n					\n\n		
				\n						The Naturist Activity club has booked a 2 and half hour Naturis
	t Canal Boat Cruise on the Basingstoke canal from Odiham Hook\, Hampshire 
	with food from Oliver's Restaurant and takeaway to be delivered to the boa
	t just before we set off.\n					\n\n					\n						Tickets are now on sale a
	t £19 each for Naturist Activity club members and £21 for prospect membe
	rs\, guests and non-members.\n					\n\n					\n						The boat has a licence
	d bar\, hot and cold drinks for sale. Please don't bring your own drinks o
	n board.  \n					\n\n					\n						The boat has a flush toilet. \n					\n\
	n					\n						I will be taking food orders and collecting the money with y
	our booking \n					\n\n					\n						We can get naked once on the boat.\n		
				\n\n					\n						 Menu - Cod\, Chicken\, Sausage or Veggie Burger mea
	ls (all include chips). \n					\n\n					\n						 \n					\n\n					\n						
	All meals served in insulated thermal HOT pacs\, including a knife &amp
	\; fork\, napkin\, salt &amp\; vinegar set plus your choice of generous He
	inz Squeeze Me! sauce portions.  \n					\n\n					\n						To buy a ticket 
	please e-mail  Office@naturistactivityclub.uk  \n					\n\n					\n						
	 \n					\n\n					\n						 \n					\n				\n			\n\n\n	\n\n
DTSTART:20200627T130000Z
DTEND:20200627T161500Z
END:VEVENT
END:VCALENDAR
