BEGIN:VCALENDAR
VERSION:2.0
PRODID:-//InvisionCommunity Events 5.0.18//EN
METHOD:PUBLISH
CALSCALE:GREGORIAN
REFRESH-INTERVAL:PT15M
X-PUBLISHED-TTL:PT15M
X-WR-CALNAME:London and South East (LASER)
NAME:London and South East (LASER)
BEGIN:VTIMEZONE
TZID:Europe/London
TZURL:https://tzurl.org/zoneinfo/Europe/London
X-LIC-LOCATION:Europe/London
BEGIN:DAYLIGHT
TZOFFSETFROM:+0000
TZOFFSETTO:+0100
TZNAME:BST
DTSTART:20200329T020000Z
RRULE:FREQ=YEARLY;BYMONTH=3;BYDAY=-1SU
END:DAYLIGHT
BEGIN:STANDARD
TZOFFSETFROM:+0100
TZOFFSETTO:+0000
TZNAME:GMT
DTSTART:20201025T020000Z
RRULE:FREQ=YEARLY;BYMONTH=10;BYDAY=-1SU
END:STANDARD
END:VTIMEZONE
BEGIN:VEVENT
SUMMARY:LASER Regional Meeting
DTSTAMP:20200201T154205Z
SEQUENCE:0
UID:5847-7-0712e666d78c35a5e0181a336d457050@bn.org.uk
ORGANIZER;CN="JonWilliams":notifications@bn.org.uk
DESCRIPTION:\n\n	The London and South East Region of BN will hold a regi
	onal meeting on 29 February\, starting at 1100\n\n\n\n	All BN members base
	d in the LASER region are welcome to attend\, but will need to confirm the
	ir attendance in advance - this can be done via email to either jon.willia
	ms@bn.org.uk or to lsechair@bn.org.uk\n\n\n\n	The regional meeting is a gr
	eat opportunity for members to find out about naturist events and opportun
	ities happening across London and the South East\, to find out about some 
	of the challenges facing naturism and to ensure that their views on the fu
	ture direction of regional activity are taken into account\n\n
DTSTART:20200229T110000Z
DTEND:20200229T150000Z
END:VEVENT
END:VCALENDAR
