BEGIN:VCALENDAR
VERSION:2.0
PRODID:-//InvisionCommunity Events 5.0.18//EN
METHOD:PUBLISH
CALSCALE:GREGORIAN
REFRESH-INTERVAL:PT15M
X-PUBLISHED-TTL:PT15M
X-WR-CALNAME:Eastern
NAME:Eastern
BEGIN:VTIMEZONE
TZID:Europe/London
TZURL:https://tzurl.org/zoneinfo/Europe/London
X-LIC-LOCATION:Europe/London
BEGIN:DAYLIGHT
TZOFFSETFROM:+0000
TZOFFSETTO:+0100
TZNAME:BST
DTSTART:20200329T020000Z
RRULE:FREQ=YEARLY;BYMONTH=3;BYDAY=-1SU
END:DAYLIGHT
BEGIN:STANDARD
TZOFFSETFROM:+0100
TZOFFSETTO:+0000
TZNAME:GMT
DTSTART:20201025T020000Z
RRULE:FREQ=YEARLY;BYMONTH=10;BYDAY=-1SU
END:STANDARD
END:VTIMEZONE
BEGIN:VEVENT
SUMMARY:Rosslyn Glamping
DTSTAMP:20200130T103547Z
SEQUENCE:0
UID:5845-8-0712e666d78c35a5e0181a336d457050@bn.org.uk
ORGANIZER;CN="peter.weston":notifications@bn.org.uk
DESCRIPTION:\n\n	We are a new family run glamping site.  Following the 
	success of previous years we can offer dates for naturists to enjoy this w
	onderful woodland adventure.\n\n\n\n	We are currently offering three huts 
	in 7 acres of woodland in North Norfolk.  We are situated about 10 miles 
	from the beautiful North Norfolk coast\, 15 miles from Holkham naturist be
	ach and about 4 miles from the Georgian town of Holt. \n\n\n\n	We can acc
	ommodate tents\, caravans and motorhomes and we have electric hook-ups. \n
	\n\n\n	Facilities include a heated swimming pool and sauna.\n\n\n\n	There 
	is also a closed Facebook group for those who add Andrew as a friend to ke
	ep up with social media of the site.\n\n\n\n	\n		For further information\
	, please contact us:\n	\n\n\n\n	\n		Andrew and Claire Riches\n	\n\n	\n		Ro
	sslyn\, Craymere Road\, Briston\,\n	\n\n	\n		Melton Constable\, NR24 2LS\n
		\n\n	\n		Tel: 01263 860343\n	\n\n	\n		Mobile 07785713277\n	\n\n	\n		Ema
	il: claire.riches@homecall.co.uk\n	\n\n	\n		https://www.rosslynglamping.c
	om \n	\n\n\n\n	\n\n\n\n	\n\n\n\n	\n\n\n\n	\n\n
DTSTART:20200618T230000Z
DTEND:20200627T230000Z
END:VEVENT
END:VCALENDAR
