BEGIN:VCALENDAR
VERSION:2.0
PRODID:-//InvisionCommunity Events 5.0.18//EN
METHOD:PUBLISH
CALSCALE:GREGORIAN
REFRESH-INTERVAL:PT15M
X-PUBLISHED-TTL:PT15M
X-WR-CALNAME:London and South East (LASER)
NAME:London and South East (LASER)
BEGIN:VTIMEZONE
TZID:Europe/London
TZURL:https://tzurl.org/zoneinfo/Europe/London
X-LIC-LOCATION:Europe/London
BEGIN:DAYLIGHT
TZOFFSETFROM:+0000
TZOFFSETTO:+0100
TZNAME:BST
DTSTART:20200329T020000Z
RRULE:FREQ=YEARLY;BYMONTH=3;BYDAY=-1SU
END:DAYLIGHT
BEGIN:STANDARD
TZOFFSETFROM:+0100
TZOFFSETTO:+0000
TZNAME:GMT
DTSTART:20201025T020000Z
RRULE:FREQ=YEARLY;BYMONTH=10;BYDAY=-1SU
END:STANDARD
END:VTIMEZONE
BEGIN:VEVENT
SUMMARY:Naked Yoga Summer Retreat
DTSTAMP:20200127T154822Z
SEQUENCE:0
UID:5820-7-0712e666d78c35a5e0181a336d457050@bn.org.uk
ORGANIZER;CN="peter.weston":notifications@bn.org.uk
DESCRIPTION:\n\n	 \n\n\n\n	You are warmly invited to join us on an in
	ner journey in this safe\, peaceful and magical haven in the quiet hills o
	f Northernm Ibiza.   An opportunity to dive deeper into your yoga practi
	ce and become one with nature\, as you practice\, (or enquire into the pos
	sibility of practicing)\, yoga naked in a spirit of sensitivity and respec
	t\, and surrender to the infinite possibilities of delight available to us
	 in the present moment.\n\n\n\n	The naked yoga retreat is suitable for all
	 levels\, including experienced yogis who would like to deepen their pract
	ice and also those new to yoga\, alternatives will be offered as the sessi
	ons progress.   And similarly\, the retreat is suitable for both those w
	ho already comfortable with nudity\, and also those for whom nudity is a c
	hallenge.\n\n\n\n	Contact Annette at www.nakedyogalondon.co.uk for full d
	etails and early bird pricing.\n\n\n\n	 \n\n\n\n	 \n\n
DTSTART;VALUE=DATE:20200603
DTEND;VALUE=DATE:20200610
END:VEVENT
END:VCALENDAR
