BEGIN:VCALENDAR
VERSION:2.0
PRODID:-//InvisionCommunity Events 5.0.18//EN
METHOD:PUBLISH
CALSCALE:GREGORIAN
REFRESH-INTERVAL:PT15M
X-PUBLISHED-TTL:PT15M
X-WR-CALNAME:South West
NAME:South West
BEGIN:VTIMEZONE
TZID:Europe/London
TZURL:https://tzurl.org/zoneinfo/Europe/London
X-LIC-LOCATION:Europe/London
BEGIN:DAYLIGHT
TZOFFSETFROM:+0000
TZOFFSETTO:+0100
TZNAME:BST
DTSTART:20200329T020000Z
RRULE:FREQ=YEARLY;BYMONTH=3;BYDAY=-1SU
END:DAYLIGHT
BEGIN:STANDARD
TZOFFSETFROM:+0100
TZOFFSETTO:+0000
TZNAME:GMT
DTSTART:20201025T020000Z
RRULE:FREQ=YEARLY;BYMONTH=10;BYDAY=-1SU
END:STANDARD
END:VTIMEZONE
BEGIN:VEVENT
SUMMARY:Naturist Ramble
DTSTAMP:20200127T153314Z
SEQUENCE:0
UID:5818-4-0712e666d78c35a5e0181a336d457050@bn.org.uk
ORGANIZER;CN="john.kendrick":notifications@bn.org.uk
DESCRIPTION:\n\n	\"Charlbury\" - a 10 mile afternoon naturist guided cou
	ntry walk on the eastern side of the Cotswold hills\, not far from Oxford.
	\n\n\n\n	 \n\n\n\n	The route lies within the Cotswolds Area of Outstandin
	g Natural Beauty.\n\n\n\n	\n\n	For more details\, please visit the Naturis
	t Ramblers Club website at\n\n\n\n	www.justwearasmile.co.uk/natram/\n\n	..
	.\n\n\n\n	\n\n
DTSTART:20200630T110000Z
END:VEVENT
END:VCALENDAR
