BEGIN:VCALENDAR
VERSION:2.0
PRODID:-//InvisionCommunity Events 5.0.18//EN
METHOD:PUBLISH
CALSCALE:GREGORIAN
REFRESH-INTERVAL:PT15M
X-PUBLISHED-TTL:PT15M
X-WR-CALNAME:London and South East (LASER)
NAME:London and South East (LASER)
BEGIN:VTIMEZONE
TZID:Europe/London
TZURL:https://tzurl.org/zoneinfo/Europe/London
X-LIC-LOCATION:Europe/London
BEGIN:DAYLIGHT
TZOFFSETFROM:+0000
TZOFFSETTO:+0100
TZNAME:BST
DTSTART:20200329T020000Z
RRULE:FREQ=YEARLY;BYMONTH=3;BYDAY=-1SU
END:DAYLIGHT
BEGIN:STANDARD
TZOFFSETFROM:+0100
TZOFFSETTO:+0000
TZNAME:GMT
DTSTART:20201025T020000Z
RRULE:FREQ=YEARLY;BYMONTH=10;BYDAY=-1SU
END:STANDARD
END:VTIMEZONE
BEGIN:VEVENT
SUMMARY:Naturist Ramble
DTSTAMP:20200127T144141Z
SEQUENCE:0
UID:5802-7-0712e666d78c35a5e0181a336d457050@bn.org.uk
ORGANIZER;CN="john.kendrick":notifications@bn.org.uk
DESCRIPTION:\n	\n		\n			\n				\n					\n						\n							\n								\n						
				\"Wepham Down\" - a 14 mile afternoon naturist guided country walk on t
	he South Downs near Arundel\n								\n\n								\n									A shorter opti
	on of 10 miles is available\, starting at the same place and time.\n						
			\n\n								\n									For further details\, please visit the Naturist R
	amblers Club website at http://www.justwearasmile.co.uk/natram/\n								\
	n							\n						\n					\n				\n			\n		\n	\n
DTSTART:20200902T101500Z
END:VEVENT
END:VCALENDAR
