BEGIN:VCALENDAR
VERSION:2.0
PRODID:-//InvisionCommunity Events 5.0.18//EN
METHOD:PUBLISH
CALSCALE:GREGORIAN
REFRESH-INTERVAL:PT15M
X-PUBLISHED-TTL:PT15M
X-WR-CALNAME:London and South East (LASER)
NAME:London and South East (LASER)
BEGIN:VTIMEZONE
TZID:Europe/London
TZURL:https://tzurl.org/zoneinfo/Europe/London
X-LIC-LOCATION:Europe/London
BEGIN:DAYLIGHT
TZOFFSETFROM:+0000
TZOFFSETTO:+0100
TZNAME:BST
DTSTART:20200329T020000Z
RRULE:FREQ=YEARLY;BYMONTH=3;BYDAY=-1SU
END:DAYLIGHT
BEGIN:STANDARD
TZOFFSETFROM:+0100
TZOFFSETTO:+0000
TZNAME:GMT
DTSTART:20201025T020000Z
RRULE:FREQ=YEARLY;BYMONTH=10;BYDAY=-1SU
END:STANDARD
END:VTIMEZONE
BEGIN:VEVENT
SUMMARY:Naturist Ramble cancelled
DTSTAMP:20200126T162049Z
SEQUENCE:0
UID:5791-7-0712e666d78c35a5e0181a336d457050@bn.org.uk
ORGANIZER;CN="john.kendrick":notifications@bn.org.uk
DESCRIPTION:\n	\n		\n			\n				\n					\n						Unfortunately this walk has
	 had to be postponed (possiby cancelled) due to the pandemic.  Further ne
	ws when things change!\n					\n\n					\n						 \n					\n\n					\n						\"
	Pilgrims Way\" -  a 12 mile afternoon naturist guided country walk in mid
	 Kent\, following a section of Chaucer's ancient path.\n					\n\n					\n		
					The route is within the Kent Downs Area of Outstanding Natural Beauty.
	\n					\n\n					\n						An 8 mile shorter option is available.\n					\n			
			For more details\, please visit the Naturist Ramblers Club website at:\n
					\n\n				\n					www.justwearasmile.co.uk/natram/\n				\n			\n		\n	\n
DTSTART:20200617T103000Z
END:VEVENT
END:VCALENDAR
