BEGIN:VCALENDAR
VERSION:2.0
PRODID:-//InvisionCommunity Events 5.0.18//EN
METHOD:PUBLISH
CALSCALE:GREGORIAN
REFRESH-INTERVAL:PT15M
X-PUBLISHED-TTL:PT15M
X-WR-CALNAME:Eastern
NAME:Eastern
BEGIN:VTIMEZONE
TZID:Europe/London
TZURL:https://tzurl.org/zoneinfo/Europe/London
X-LIC-LOCATION:Europe/London
BEGIN:DAYLIGHT
TZOFFSETFROM:+0000
TZOFFSETTO:+0100
TZNAME:BST
DTSTART:20200329T020000Z
RRULE:FREQ=YEARLY;BYMONTH=3;BYDAY=-1SU
END:DAYLIGHT
BEGIN:STANDARD
TZOFFSETFROM:+0100
TZOFFSETTO:+0000
TZNAME:GMT
DTSTART:20201025T020000Z
RRULE:FREQ=YEARLY;BYMONTH=10;BYDAY=-1SU
END:STANDARD
END:VTIMEZONE
BEGIN:VEVENT
SUMMARY:Cancelled - Evenley Wood Garden
DTSTAMP:20200125T113712Z
SEQUENCE:0
UID:5782-8-0712e666d78c35a5e0181a336d457050@bn.org.uk
ORGANIZER;CN="nigel.bromley":notifications@bn.org.uk
DESCRIPTION:\n\n	This event is cancelled.\n\n\n\n	 \n\n\n\n	A naturist 
	visit to this beautiful and interesting garden near Brackley (between Oxf
	ord and Northampton). Organised under the auspices of Shabden Leisure Circ
	le.\n\n\n\n	See the flyer below for details.\n\n\n\n	 \n\n\n\n	\n\n
DTSTART;VALUE=DATE:20200516
END:VEVENT
END:VCALENDAR
