BEGIN:VCALENDAR
VERSION:2.0
PRODID:-//InvisionCommunity Events 5.0.18//EN
METHOD:PUBLISH
CALSCALE:GREGORIAN
REFRESH-INTERVAL:PT15M
X-PUBLISHED-TTL:PT15M
X-WR-CALNAME:Irish Naturist Association
NAME:Irish Naturist Association
BEGIN:VTIMEZONE
TZID:Europe/London
TZURL:https://tzurl.org/zoneinfo/Europe/London
X-LIC-LOCATION:Europe/London
BEGIN:DAYLIGHT
TZOFFSETFROM:+0000
TZOFFSETTO:+0100
TZNAME:BST
DTSTART:20200329T020000Z
RRULE:FREQ=YEARLY;BYMONTH=3;BYDAY=-1SU
END:DAYLIGHT
BEGIN:STANDARD
TZOFFSETFROM:+0100
TZOFFSETTO:+0000
TZNAME:GMT
DTSTART:20201025T020000Z
RRULE:FREQ=YEARLY;BYMONTH=10;BYDAY=-1SU
END:STANDARD
END:VTIMEZONE
BEGIN:VEVENT
SUMMARY:Mespil Swim - Dublin
DTSTAMP:20200123T100505Z
SEQUENCE:0
UID:5773-24-0712e666d78c35a5e0181a336d457050@bn.org.uk
ORGANIZER;CN="Ron.O":notifications@bn.org.uk
DESCRIPTION:\n\n	Mespil Swim Dublin  1st February 2020\n\n\n\n	\n		21st
	 March @ 7:00 pm - 8:00 pm GMT \n	\n\n	\n		CLICK HERE TO BOOK THE MESPIL 
	SWIM\n	\n\n	\n		\n	\n\n	\n		 \n	\n\n
DTSTART:20200321T190000Z
DTEND:20200321T200000Z
END:VEVENT
END:VCALENDAR
