BEGIN:VCALENDAR
VERSION:2.0
PRODID:-//InvisionCommunity Events 5.0.18//EN
METHOD:PUBLISH
CALSCALE:GREGORIAN
REFRESH-INTERVAL:PT15M
X-PUBLISHED-TTL:PT15M
X-WR-CALNAME:North West
NAME:North West
BEGIN:VTIMEZONE
TZID:Europe/London
TZURL:https://tzurl.org/zoneinfo/Europe/London
X-LIC-LOCATION:Europe/London
BEGIN:DAYLIGHT
TZOFFSETFROM:+0000
TZOFFSETTO:+0100
TZNAME:BST
DTSTART:20200329T020000Z
RRULE:FREQ=YEARLY;BYMONTH=3;BYDAY=-1SU
END:DAYLIGHT
BEGIN:STANDARD
TZOFFSETFROM:+0100
TZOFFSETTO:+0000
TZNAME:GMT
DTSTART:20201025T020000Z
RRULE:FREQ=YEARLY;BYMONTH=10;BYDAY=-1SU
END:STANDARD
END:VTIMEZONE
BEGIN:VEVENT
SUMMARY:Wirralnats Chester Swim
DTSTAMP:20200117T105223Z
SEQUENCE:0
UID:5757-5-0712e666d78c35a5e0181a336d457050@bn.org.uk
ORGANIZER;CN="Ron.O":notifications@bn.org.uk
DESCRIPTION:\n\n	WIRRALNATS CHESTER SWIM - EVERY SATURDAY.\n\n\n\n	Cance
	lled until further notice\n\n\n\n	We are a friendly Club who meet up every
	 weekend to swim and socialise. Our membership is comprised of families\, 
	couples and singles\, and we welcome all genuine naturists who wish to vis
	it.\n\n\n	We meet every Saturday evening at the Northgate Arena in the cit
	y of Chester\, 7.15pm until 8.45pm in the pool. The Club has excellent fac
	ilities and ample FREE parking.\n\n\n\n	We have excellent facilities with 
	the main leisure pool\, water slide\, and also the sauna and steam room lo
	cated at the side of the pool.\n\n\n	The pool is ideal for children and no
	n-swimmers as it has a beach end\, which allows you to paddle up to a dept
	h that you are comfortable with\, right up to the diving end of the pool a
	t just over 3 metres deep. The pool is also ideal for disabled people.\n\n
	\n\n	The sauna and steam room are next to the pool. There are also tables 
	and chairs by the poolside which provide an ideal place for a chat with fr
	iends.\n\n\n	Lane swimming across the width of the pool is popular with so
	me of our 'serious swimmer' members. The 70m flume is a popular feature of
	 the Northgate pool. The deep end of the pool goes to a depth of 3 metres.
	\n\n\n\n	Please book in advance via the Wirralnats website \n\n\n\n	Disco
	unts for BN Members\, BN Club Members &amp\; Students.\n\n\n\n	\n
DTSTART:20200328T191500Z
DTEND:20200328T210000Z
END:VEVENT
END:VCALENDAR
