BEGIN:VCALENDAR
VERSION:2.0
PRODID:-//InvisionCommunity Events 5.0.18//EN
METHOD:PUBLISH
CALSCALE:GREGORIAN
REFRESH-INTERVAL:PT15M
X-PUBLISHED-TTL:PT15M
X-WR-CALNAME:London and South East (LASER)
NAME:London and South East (LASER)
BEGIN:VTIMEZONE
TZID:Europe/London
TZURL:https://tzurl.org/zoneinfo/Europe/London
X-LIC-LOCATION:Europe/London
BEGIN:DAYLIGHT
TZOFFSETFROM:+0000
TZOFFSETTO:+0100
TZNAME:BST
DTSTART:20200329T020000Z
RRULE:FREQ=YEARLY;BYMONTH=3;BYDAY=-1SU
END:DAYLIGHT
BEGIN:STANDARD
TZOFFSETFROM:+0100
TZOFFSETTO:+0000
TZNAME:GMT
DTSTART:20201025T020000Z
RRULE:FREQ=YEARLY;BYMONTH=10;BYDAY=-1SU
END:STANDARD
END:VTIMEZONE
BEGIN:VEVENT
SUMMARY:Naked Southampton Skinny Dip at the Oaklands Pool
DTSTAMP:20191216T114317Z
SEQUENCE:0
UID:5610-7-0712e666d78c35a5e0181a336d457050@bn.org.uk
ORGANIZER;CN="john.rodgers":notifications@bn.org.uk
DESCRIPTION:\n	\n		\n			\n				\n					\n						\n							\n								\n						
				\n										\n											\n												\n													\n														\
	n															\n																\n																	Please note Oaklands 
	Swimming Pool is closed from March 20th until further notice.\n											
						\n\n																\n																	Naked Southampton and BN's Lon
	don South East Region (LASER) have arranged a Skinny Dip at the Oaklands S
	wimming Pool at Southampton.\n																\n\n																\n						
												The cost is £5 at the door. Under 18's\, who must be accompani
	ed by a parent or guardian\, can come in for £1\, and so can full time st
	udents showing a Students Union Card. The event is open to all\, but pleas
	e remember to bring a photo ID\, such as your driving license\, BN members
	hip card\, or other suitable i.d.\n																\n\n																\n	
																	Please note that the postcode for the pool is SO16 8LX. So
	me people have found that their Sat Navs do not recognize this\, however t
	he pool is in Cromaty Road\, and that is\, apparently does work.\n								
									\n\n																\n																	Should you have any queries
	 please email headoffice@bn.org.uk or call 01604 620361.\n																
	\n\n																\n																	John Rodgers\n																\n			
													\n														\n													\n												\n											\n		
									\n									\n								\n							\n						\n					\n				\n			\n		\n	\n
DTSTART:20200321T183000Z
DTEND:20200321T200000Z
END:VEVENT
END:VCALENDAR
