BEGIN:VCALENDAR
VERSION:2.0
PRODID:-//InvisionCommunity Events 5.0.18//EN
METHOD:PUBLISH
CALSCALE:GREGORIAN
REFRESH-INTERVAL:PT15M
X-PUBLISHED-TTL:PT15M
X-WR-CALNAME:London and South East (LASER)
NAME:London and South East (LASER)
BEGIN:VTIMEZONE
TZID:Europe/London
TZURL:https://tzurl.org/zoneinfo/Europe/London
X-LIC-LOCATION:Europe/London
BEGIN:DAYLIGHT
TZOFFSETFROM:+0000
TZOFFSETTO:+0100
TZNAME:BST
DTSTART:20200329T020000Z
RRULE:FREQ=YEARLY;BYMONTH=3;BYDAY=-1SU
END:DAYLIGHT
BEGIN:STANDARD
TZOFFSETFROM:+0100
TZOFFSETTO:+0000
TZNAME:GMT
DTSTART:20201025T020000Z
RRULE:FREQ=YEARLY;BYMONTH=10;BYDAY=-1SU
END:STANDARD
END:VTIMEZONE
BEGIN:VEVENT
SUMMARY:Naked Ten Pin Bowling in Ashford\, Kent
DTSTAMP:20191115T181005Z
SEQUENCE:0
UID:5526-7-0712e666d78c35a5e0181a336d457050@bn.org.uk
ORGANIZER;CN="JonWilliams":notifications@bn.org.uk
DESCRIPTION:\n\n	Tentatively rescheduled to Thursday 23 July - all other
	 details remain unchanged\n\n\n\n	We have booked the Hollywood Bowl in Ash
	ford\, Kent for an evening of naked bowling on Thursday 26 March 2020\n\
	n\n\n	We will have exclusive use of the venue from 7:30 p.m. until 10:00 p
	.m. so we’ll be able to be naked throughout the venue\n\n\n\n	You can bo
	ok for this event via BN Events - just follow this Link \n\n\n\n	The cos
	t for this event is £21 for BN members - or £25 for non-members - this i
	ncludes two games of bowling\, shoe hire (ironically!)\, buffet food and a
	 drink from the bar\n\n\n\n	A cash bar will also be available throughout t
	he evening for additional drinks\n\n\n\n	There is plenty of free parking a
	vailable at the venue\, and it’s also easily accessible by public transp
	ort from Ashford station (only 38 minutes from London!)\n\n\n\n	We held an
	 event in August 2019 at the Hollywood Bowl in Tunbridge Wells which was a
	 great success - don’t miss out on a chance join us in March!\n\n\n\n	If
	 you have any questions or need more information\, contact Jon Williams at
	 jon.williams@bn.org.uk\n\n\n\n	 \n\n
DTSTART:20200723T183000Z
DTEND:20200723T210000Z
END:VEVENT
END:VCALENDAR
