BEGIN:VCALENDAR
VERSION:2.0
PRODID:-//InvisionCommunity Events 5.0.18//EN
METHOD:PUBLISH
CALSCALE:GREGORIAN
REFRESH-INTERVAL:PT15M
X-PUBLISHED-TTL:PT15M
X-WR-CALNAME:London and South East (LASER)
NAME:London and South East (LASER)
BEGIN:VTIMEZONE
TZID:Europe/London
TZURL:https://tzurl.org/zoneinfo/Europe/London
X-LIC-LOCATION:Europe/London
BEGIN:DAYLIGHT
TZOFFSETFROM:+0000
TZOFFSETTO:+0100
TZNAME:BST
DTSTART:20190331T020000Z
RRULE:FREQ=YEARLY;BYMONTH=3;BYDAY=-1SU
END:DAYLIGHT
BEGIN:STANDARD
TZOFFSETFROM:+0100
TZOFFSETTO:+0000
TZNAME:GMT
DTSTART:20191027T020000Z
RRULE:FREQ=YEARLY;BYMONTH=10;BYDAY=-1SU
END:STANDARD
END:VTIMEZONE
BEGIN:VEVENT
SUMMARY:Max's Garden New Years Eve
DTSTAMP:20191114T123744Z
SEQUENCE:0
UID:5524-7-0712e666d78c35a5e0181a336d457050@bn.org.uk
ORGANIZER;CN="peter.weston":notifications@bn.org.uk
DESCRIPTION:\n\n	Come and celebrate 2020 naked. We will be holding a New
	 Years Eve party\, with belly dancing\, buffet\, welcome drink and canapes
	. Also full use of the spa and pool. At midnight there will be some fire w
	orks and bubbly to celebrity the New Year.  All this for only £35 per pe
	rson\, starts at 6pm. Numbers are limited so if interested please book asa
	p see link below for a video of Kassandra performance on you tube.\n\n\n\n
		\n		Give us a ring on 07766 826972 or 07854 377427\n	\n\n\n\n	\n		Max's G
	arden\n	\n\n\n\n	 \n\n\n\n	\n		\n	\n\n\n\n	 \n\n
DTSTART:20191231T180000Z
END:VEVENT
END:VCALENDAR
