BEGIN:VCALENDAR
VERSION:2.0
PRODID:-//InvisionCommunity Events 5.0.18//EN
METHOD:PUBLISH
CALSCALE:GREGORIAN
REFRESH-INTERVAL:PT15M
X-PUBLISHED-TTL:PT15M
X-WR-CALNAME:North West
NAME:North West
BEGIN:VTIMEZONE
TZID:Europe/London
TZURL:https://tzurl.org/zoneinfo/Europe/London
X-LIC-LOCATION:Europe/London
BEGIN:DAYLIGHT
TZOFFSETFROM:+0000
TZOFFSETTO:+0100
TZNAME:BST
DTSTART:20200329T020000Z
RRULE:FREQ=YEARLY;BYMONTH=3;BYDAY=-1SU
END:DAYLIGHT
BEGIN:STANDARD
TZOFFSETFROM:+0100
TZOFFSETTO:+0000
TZNAME:GMT
DTSTART:20201025T020000Z
RRULE:FREQ=YEARLY;BYMONTH=10;BYDAY=-1SU
END:STANDARD
END:VTIMEZONE
BEGIN:VEVENT
SUMMARY:Families meetup- -Liverpool Sun and Air Society
DTSTAMP:20191021T130453Z
SEQUENCE:0
UID:5490-5-0712e666d78c35a5e0181a336d457050@bn.org.uk
ORGANIZER;CN="Shan Allen":notifications@bn.org.uk
DESCRIPTION:\n\n	POSTPONED UNTIL 2021 DATE TBC\n\n\n\n	Liverpool Sun and
	 Air Society\, nr. Widnes\, Cheshire (see their website: lsas.org.uk)\n\n\
	n\n	31 July - 2 August 2020\n\n\n\n	NOTE: OPEN TO FAMILIES WITH UNDER 18s 
	ONLY\n\n\n\n	Liverpool Sun and Air Society are organising a families event
	 at their site near Liverpool. Their location close to the M62 makes them 
	easily accessible and their welcome and faciliites make a visit well worth
	 the journey. With a fenced swimming pool\, sauna\, hot tub\, miniten and 
	other sporting possibilities\, we look forward to enjoying all that their 
	site has to offer.\n\n\n\n	More details to be added when known.\n\n\n\n	Ca
	mping us available for up to 10 caravans/motorhomes and lots of tents. EHU
	\, showers and toilets are also available.\n\n\n\n	Booking will be availab
	le directly with the club soon.\n\n
DTSTART:20200731T150000Z
DTEND:20200802T110000Z
END:VEVENT
END:VCALENDAR
