BEGIN:VCALENDAR
VERSION:2.0
PRODID:-//InvisionCommunity Events 5.0.18//EN
METHOD:PUBLISH
CALSCALE:GREGORIAN
REFRESH-INTERVAL:PT15M
X-PUBLISHED-TTL:PT15M
X-WR-CALNAME:South West
NAME:South West
BEGIN:VTIMEZONE
TZID:Europe/London
TZURL:https://tzurl.org/zoneinfo/Europe/London
X-LIC-LOCATION:Europe/London
BEGIN:DAYLIGHT
TZOFFSETFROM:+0000
TZOFFSETTO:+0100
TZNAME:BST
DTSTART:20200329T020000Z
RRULE:FREQ=YEARLY;BYMONTH=3;BYDAY=-1SU
END:DAYLIGHT
BEGIN:STANDARD
TZOFFSETFROM:+0100
TZOFFSETTO:+0000
TZNAME:GMT
DTSTART:20201025T020000Z
RRULE:FREQ=YEARLY;BYMONTH=10;BYDAY=-1SU
END:STANDARD
END:VTIMEZONE
BEGIN:VEVENT
SUMMARY:Christian Naturist Fellowship Rally at SWOC
DTSTAMP:20191019T134504Z
SEQUENCE:0
UID:5473-4-0712e666d78c35a5e0181a336d457050@bn.org.uk
ORGANIZER;CN="Christine Ashford":notifications@bn.org.uk
DESCRIPTION:\n	SWOC (South Western Outdoor Club) welcomes members of the
	 Christian Naturist Fellowship. More details from the SWOC secretary on 07
	534091443 or email secretaryswoc@gmail.com .\n
DTSTART:20200516T090000Z
END:VEVENT
END:VCALENDAR
