BEGIN:VCALENDAR
VERSION:2.0
PRODID:-//InvisionCommunity Events 5.0.18//EN
METHOD:PUBLISH
CALSCALE:GREGORIAN
REFRESH-INTERVAL:PT15M
X-PUBLISHED-TTL:PT15M
X-WR-CALNAME:South West
NAME:South West
BEGIN:VTIMEZONE
TZID:Europe/London
TZURL:https://tzurl.org/zoneinfo/Europe/London
X-LIC-LOCATION:Europe/London
BEGIN:DAYLIGHT
TZOFFSETFROM:+0000
TZOFFSETTO:+0100
TZNAME:BST
DTSTART:20200329T020000Z
RRULE:FREQ=YEARLY;BYMONTH=3;BYDAY=-1SU
END:DAYLIGHT
BEGIN:STANDARD
TZOFFSETFROM:+0100
TZOFFSETTO:+0000
TZNAME:GMT
DTSTART:20201025T020000Z
RRULE:FREQ=YEARLY;BYMONTH=10;BYDAY=-1SU
END:STANDARD
END:VTIMEZONE
BEGIN:VEVENT
SUMMARY:SWOC V W Camper Weekend
DTSTAMP:20191019T133434Z
SEQUENCE:0
UID:5472-4-0712e666d78c35a5e0181a336d457050@bn.org.uk
ORGANIZER;CN="Christine Ashford":notifications@bn.org.uk
DESCRIPTION:\n	SWOC (South Western Outdoor Club) invites naturists with 
	VW Campers of any vintage to meet at SWOC on 4th &amp\; 5th July 2020. You
	r stay can be extended either side of those dates by arrangement. Tel.0753
	4091443 or email secretaryswoc@gmail.com for more details.\n
DTSTART:20200704T090000Z
DTEND:20200705T160000Z
END:VEVENT
END:VCALENDAR
