BEGIN:VCALENDAR
VERSION:2.0
PRODID:-//InvisionCommunity Events 5.0.18//EN
METHOD:PUBLISH
CALSCALE:GREGORIAN
REFRESH-INTERVAL:PT15M
X-PUBLISHED-TTL:PT15M
X-WR-CALNAME:London and South East (LASER)
NAME:London and South East (LASER)
BEGIN:VTIMEZONE
TZID:Europe/London
TZURL:https://tzurl.org/zoneinfo/Europe/London
X-LIC-LOCATION:Europe/London
BEGIN:DAYLIGHT
TZOFFSETFROM:+0000
TZOFFSETTO:+0100
TZNAME:BST
DTSTART:20190331T020000Z
RRULE:FREQ=YEARLY;BYMONTH=3;BYDAY=-1SU
END:DAYLIGHT
BEGIN:STANDARD
TZOFFSETFROM:+0100
TZOFFSETTO:+0000
TZNAME:GMT
DTSTART:20191027T020000Z
RRULE:FREQ=YEARLY;BYMONTH=10;BYDAY=-1SU
END:STANDARD
END:VTIMEZONE
BEGIN:VEVENT
SUMMARY:Badminton Guildford
DTSTAMP:20190922T190316Z
SEQUENCE:0
UID:5344-7-0712e666d78c35a5e0181a336d457050@bn.org.uk
ORGANIZER;CN="Bernie":notifications@bn.org.uk
DESCRIPTION:\n	I am looking for a minimum of 6 to a maximum of 12 people
	 that would like to join me for an hour naturist badminton in Guildford. 
	 Send me an email guildfordbadminton@naturistactivityclub.uk if you would 
	like to book a place.  It will be £ 3 per person.  You will need your o
	wn badminton racket.  The 2 courts will be booked once we have a minimum 
	of 6 people.  If you want to go on our Guildford naturist badminton e-mai
	ling list please also e-mail me adding please add me to the Guildford natu
	rist badminton mailing list.\n
DTSTART:20190928T195000Z
DTEND:20190928T205800Z
ATTENDEE;CN="Bernie";CUTYPE=INDIVIDUAL;PARTSTAT=ACCEPTED:not
	ifications@bn.org.uk
END:VEVENT
END:VCALENDAR
