BEGIN:VCALENDAR
VERSION:2.0
PRODID:-//InvisionCommunity Events 5.0.18//EN
METHOD:PUBLISH
CALSCALE:GREGORIAN
REFRESH-INTERVAL:PT15M
X-PUBLISHED-TTL:PT15M
X-WR-CALNAME:London and South East (LASER)
NAME:London and South East (LASER)
BEGIN:VTIMEZONE
TZID:Europe/London
TZURL:https://tzurl.org/zoneinfo/Europe/London
X-LIC-LOCATION:Europe/London
BEGIN:DAYLIGHT
TZOFFSETFROM:+0000
TZOFFSETTO:+0100
TZNAME:BST
DTSTART:20190331T020000Z
RRULE:FREQ=YEARLY;BYMONTH=3;BYDAY=-1SU
END:DAYLIGHT
BEGIN:STANDARD
TZOFFSETFROM:+0100
TZOFFSETTO:+0000
TZNAME:GMT
DTSTART:20191027T020000Z
RRULE:FREQ=YEARLY;BYMONTH=10;BYDAY=-1SU
END:STANDARD
END:VTIMEZONE
BEGIN:VEVENT
SUMMARY:Good Life 2019 exhibition 2019 (clothed)
DTSTAMP:20190901T170426Z
SEQUENCE:0
UID:5251-7-0712e666d78c35a5e0181a336d457050@bn.org.uk
ORGANIZER;CN="philip.baker":notifications@bn.org.uk
DESCRIPTION:\n\n	.East Sussex Naturists have been invited to take part i
	n the Good Life 2019 exhibition with the support of British Naturism.\n\n\
	n\n	The Good Life 2019 is proud to be the first sole-exhibition event to u
	tilise both large exhibition halls within this venue which encompass appro
	ximately 1000m2. Find us on tables 21 &amp\; 22 in Mallory Hall. Come alon
	g and help us attract new members for Eastbourne Naturist swim and British
	 Naturism.  Information on the show can be found at http://www.goodlife.e
	sf-online.org/\n\n\n\n	We are also looking for a volunteer to bring women'
	s perspective to the naturist life. Please email naturistswim@gmx.com if y
	ou would like to join us as an exhibitor and I will send you more details.
	\n\n
DTSTART;VALUE=DATE:20190926
END:VEVENT
END:VCALENDAR
