BEGIN:VCALENDAR
VERSION:2.0
PRODID:-//InvisionCommunity Events 5.0.18//EN
METHOD:PUBLISH
CALSCALE:GREGORIAN
REFRESH-INTERVAL:PT15M
X-PUBLISHED-TTL:PT15M
X-WR-CALNAME:South West
NAME:South West
BEGIN:VTIMEZONE
TZID:Europe/London
TZURL:https://tzurl.org/zoneinfo/Europe/London
X-LIC-LOCATION:Europe/London
BEGIN:DAYLIGHT
TZOFFSETFROM:+0000
TZOFFSETTO:+0100
TZNAME:BST
DTSTART:20190331T020000Z
RRULE:FREQ=YEARLY;BYMONTH=3;BYDAY=-1SU
END:DAYLIGHT
BEGIN:STANDARD
TZOFFSETFROM:+0100
TZOFFSETTO:+0000
TZNAME:GMT
DTSTART:20191027T020000Z
RRULE:FREQ=YEARLY;BYMONTH=10;BYDAY=-1SU
END:STANDARD
END:VTIMEZONE
BEGIN:VEVENT
SUMMARY:NUDIE DUDIE SWIM AND Meet and Greet
DTSTAMP:20190809T075735Z
SEQUENCE:0
UID:5165-4-0712e666d78c35a5e0181a336d457050@bn.org.uk
ORGANIZER;CN="Sunshinekid":notifications@bn.org.uk
DESCRIPTION:\n\n	Event details\n\n\n\n	\n		\n			This is a swim at\n		\n\
	n		\n			\n				Llantwit Major Leisure Centre\n\n				\n					Ham Lane East\, 
	CF61 1TQ \n				\n\n				\n					 swim for 1 hour\n				\n\n				\n					 \n	
				\n			\n		\n\n		\n			start of swim 4pm but get there by 3.50pm. \n		\n\n
			\n			then after swim a meet and great at the The Tudor Tavern\, Church S
	treet\, Llantwit Major\, around 5.30pm just opposite our former haunt at 
	the Old Swan - so the same handy town centre car park.\n		\n\n		\n			pleas
	e contact Andy Griffiths: 07817773479\n		\n\n		\n			All newcomers very wel
	come\, please bring ID if it's your first visit.\n		\n\n		\n			Prices rema
	in at £5 for members (£10 annual membership fee) and £7 for non-member
	s. \n		\n\n		\n			I look forward to meeting friends old and new  :-)\n		
	\n	\n\n
DTSTART:20190818T150000Z
DTEND:20190818T160000Z
END:VEVENT
END:VCALENDAR
