BEGIN:VCALENDAR
VERSION:2.0
PRODID:-//InvisionCommunity Events 5.0.18//EN
METHOD:PUBLISH
CALSCALE:GREGORIAN
REFRESH-INTERVAL:PT15M
X-PUBLISHED-TTL:PT15M
X-WR-CALNAME:London and South East (LASER)
NAME:London and South East (LASER)
BEGIN:VTIMEZONE
TZID:Europe/London
TZURL:https://tzurl.org/zoneinfo/Europe/London
X-LIC-LOCATION:Europe/London
BEGIN:DAYLIGHT
TZOFFSETFROM:+0000
TZOFFSETTO:+0100
TZNAME:BST
DTSTART:20190331T020000Z
RRULE:FREQ=YEARLY;BYMONTH=3;BYDAY=-1SU
END:DAYLIGHT
BEGIN:STANDARD
TZOFFSETFROM:+0100
TZOFFSETTO:+0000
TZNAME:GMT
DTSTART:20191027T020000Z
RRULE:FREQ=YEARLY;BYMONTH=10;BYDAY=-1SU
END:STANDARD
END:VTIMEZONE
BEGIN:VEVENT
SUMMARY:Swim at Alton
DTSTAMP:20190729T202050Z
SEQUENCE:0
UID:5157-7-0712e666d78c35a5e0181a336d457050@bn.org.uk
ORGANIZER;CN="alanpeill1951":notifications@bn.org.uk
DESCRIPTION:\n\n	Alton Sports Centre Naturist Swim - 1st Sunday of every
	 month from 19:30 to 21:30. Facilities include 6 Lane 25 metre swimming p
	ool\, Sauna\, Steam room and hot tub that are all in use during this sessi
	on.\n\n\n\n	No pre-booking or club membership required. This is an open se
	ssion run by the Sports Centre (i.e. not a members club).\n\n\n\n	Alton Sp
	orts Centre\,  Chawton Park Road\,  Alton\,  Hampshire. GU34 1ST. 
	 01420 540040.\n\n
DTSTART:20191006T183000Z
DTEND:20191006T203000Z
END:VEVENT
END:VCALENDAR
