BEGIN:VCALENDAR
VERSION:2.0
PRODID:-//InvisionCommunity Events 5.0.18//EN
METHOD:PUBLISH
CALSCALE:GREGORIAN
REFRESH-INTERVAL:PT15M
X-PUBLISHED-TTL:PT15M
X-WR-CALNAME:Yorkshire and East Midlands
NAME:Yorkshire and East Midlands
BEGIN:VTIMEZONE
TZID:Europe/London
TZURL:https://tzurl.org/zoneinfo/Europe/London
X-LIC-LOCATION:Europe/London
BEGIN:DAYLIGHT
TZOFFSETFROM:+0000
TZOFFSETTO:+0100
TZNAME:BST
DTSTART:20190331T020000Z
RRULE:FREQ=YEARLY;BYMONTH=3;BYDAY=-1SU
END:DAYLIGHT
BEGIN:STANDARD
TZOFFSETFROM:+0100
TZOFFSETTO:+0000
TZNAME:GMT
DTSTART:20191027T020000Z
RRULE:FREQ=YEARLY;BYMONTH=10;BYDAY=-1SU
END:STANDARD
END:VTIMEZONE
BEGIN:VEVENT
SUMMARY:Chesterfield Swim
DTSTAMP:20190702T184900Z
SEQUENCE:0
UID:5116-6-0712e666d78c35a5e0181a336d457050@bn.org.uk
ORGANIZER;CN="Andrew Calow":notifications@bn.org.uk
DESCRIPTION:\n\n	\n		\n			\n				\n					The Chesterfield Swim takes place
	 at Princes Sports Club (formerly the Manor Sports Club)\, Old Road\,\n			
		\n\n				\n					Brampton\, Chesterfield S40 3QT.\n				\n\n				\n					Acces
	s is along a tree lined driveway from Old Road - watch out for the speed b
	umps!\n				\n\n				\n					The facilities include an 18 metre swimming pool
	\, a sauna\, hot tub and steam room.\n				\n\n				\n					Admission is £7\
	n				\n\n				\n					For further information contact the swim organiser via
	 email schwimm4010@outlook.com or telephone 0739 358 0040.\n				\n\n				\n
						 \n				\n			\n		\n	\n\n\n\n	\n		\n			 \n		\n	\n\n
DTSTART:20190727T181500Z
DTEND:20190727T201500Z
END:VEVENT
END:VCALENDAR
