BEGIN:VCALENDAR
VERSION:2.0
PRODID:-//InvisionCommunity Events 5.0.18//EN
METHOD:PUBLISH
CALSCALE:GREGORIAN
REFRESH-INTERVAL:PT15M
X-PUBLISHED-TTL:PT15M
X-WR-CALNAME:London and South East (LASER)
NAME:London and South East (LASER)
BEGIN:VTIMEZONE
TZID:Europe/London
TZURL:https://tzurl.org/zoneinfo/Europe/London
X-LIC-LOCATION:Europe/London
BEGIN:DAYLIGHT
TZOFFSETFROM:+0000
TZOFFSETTO:+0100
TZNAME:BST
DTSTART:20190331T020000Z
RRULE:FREQ=YEARLY;BYMONTH=3;BYDAY=-1SU
END:DAYLIGHT
BEGIN:STANDARD
TZOFFSETFROM:+0100
TZOFFSETTO:+0000
TZNAME:GMT
DTSTART:20191027T020000Z
RRULE:FREQ=YEARLY;BYMONTH=10;BYDAY=-1SU
END:STANDARD
END:VTIMEZONE
BEGIN:VEVENT
SUMMARY:Naturist Ramble (extra)
DTSTAMP:20190613T072401Z
SEQUENCE:0
UID:5089-7-0712e666d78c35a5e0181a336d457050@bn.org.uk
ORGANIZER;CN="john.kendrick":notifications@bn.org.uk
DESCRIPTION:\n	\n		\n			\n				\n					\n						\n							\n								\n						
				An 11 mile afternoon naturist guided country walk on the South Downs ne
	ar Eastbourne.\n								\n\n								\n									A shorter 7 mile option is 
	available\, starting at the same place and time.\n								\n\n								\n		
								This is an additional walk as the original walk on 4th June was aff
	ected by rain.\n								\n\n								\n									For more details\, please v
	isit the Naturist Ramblers Club website at\n								\n\n								\n								
		http://www.justwearasmile.co.uk/natram/\n								\n							\n						\n					
	\n				\n			\n		\n	\n
DTSTART:20190709T103000Z
END:VEVENT
END:VCALENDAR
