BEGIN:VCALENDAR
VERSION:2.0
PRODID:-//InvisionCommunity Events 5.0.18//EN
METHOD:PUBLISH
CALSCALE:GREGORIAN
REFRESH-INTERVAL:PT15M
X-PUBLISHED-TTL:PT15M
X-WR-CALNAME:Eastern
NAME:Eastern
BEGIN:VTIMEZONE
TZID:Europe/London
TZURL:https://tzurl.org/zoneinfo/Europe/London
X-LIC-LOCATION:Europe/London
BEGIN:DAYLIGHT
TZOFFSETFROM:+0000
TZOFFSETTO:+0100
TZNAME:BST
DTSTART:20190331T020000Z
RRULE:FREQ=YEARLY;BYMONTH=3;BYDAY=-1SU
END:DAYLIGHT
BEGIN:STANDARD
TZOFFSETFROM:+0100
TZOFFSETTO:+0000
TZNAME:GMT
DTSTART:20191027T020000Z
RRULE:FREQ=YEARLY;BYMONTH=10;BYDAY=-1SU
END:STANDARD
END:VTIMEZONE
BEGIN:VEVENT
SUMMARY:Long Marston Freehiking
DTSTAMP:20190228T192020Z
SEQUENCE:0
UID:4869-8-0712e666d78c35a5e0181a336d457050@bn.org.uk
ORGANIZER;CN="John Gelder":notifications@bn.org.uk
DESCRIPTION:\n\n	Join us for an 8 mile freehiking event starting at/retu
	rning to Long Marston\, including sections of the Grand Union Canal (Ayles
	bury Arm).  Thursday 28 March 2019\, 1.00pm to 5.00pm.\n\n\n\n	The walk i
	s on flat terrain\, starting at the village Long Marston and walking along
	 sections of the Grand Union Canal (Aylesbury Arm).  We expect to have to
	 cover up during later sections of the canal\, as it nears Aylesbury\, bef
	ore returning through tree covered footpaths and open countryside to Long 
	Marston.\n\n\n\n	The event is being organised through Milton Keynes Naturi
	st Meet and Greet Group and the Naturist Activity Club East of England.  
	It is open to members of both these groups and to members of British Natur
	ism.  When booking\, please state whether you are a member of one or more
	 of these groups.\n\n\n\n	For further information or to book onto the even
	t\, contact Roy Snell via email: mk.mag.group@gmail.com.  Details of the 
	meeting point and other information will be provided when your booking is 
	confirmed.\n\n\n\n	 \n\n
DTSTART:20190328T130000Z
DTEND:20190328T170000Z
END:VEVENT
END:VCALENDAR
