BEGIN:VCALENDAR
VERSION:2.0
PRODID:-//InvisionCommunity Events 5.0.18//EN
METHOD:PUBLISH
CALSCALE:GREGORIAN
REFRESH-INTERVAL:PT15M
X-PUBLISHED-TTL:PT15M
X-WR-CALNAME:North West
NAME:North West
BEGIN:VTIMEZONE
TZID:Europe/London
TZURL:https://tzurl.org/zoneinfo/Europe/London
X-LIC-LOCATION:Europe/London
BEGIN:DAYLIGHT
TZOFFSETFROM:+0000
TZOFFSETTO:+0100
TZNAME:BST
DTSTART:20190331T020000Z
RRULE:FREQ=YEARLY;BYMONTH=3;BYDAY=-1SU
END:DAYLIGHT
BEGIN:STANDARD
TZOFFSETFROM:+0100
TZOFFSETTO:+0000
TZNAME:GMT
DTSTART:20191027T020000Z
RRULE:FREQ=YEARLY;BYMONTH=10;BYDAY=-1SU
END:STANDARD
END:VTIMEZONE
BEGIN:VEVENT
SUMMARY:Manchester Male Naturist Swim
DTSTAMP:20190228T182708Z
SEQUENCE:0
UID:4865-5-0712e666d78c35a5e0181a336d457050@bn.org.uk
ORGANIZER;CN="David B":notifications@bn.org.uk
DESCRIPTION:\n\n	The swim is every Thursday\, 7:45-8:45pm\, and costs £
	5.\n\n	The cost includes the use of a shared sauna and steam room\; but br
	ing shorts for those. You’ll also need a (refundable) £1 coin or trolle
	y token for the lockers.\n\n\n\n	The address is Arcadia Library &amp\; Lei
	sure Centre\, Yew Tree Avenue\, Manchester\, M19 3PH. There's free parking
	 at the back\, with cycle racks and local bus stops at the front\, and Lev
	enshulme train station a three minute walk away with frequent\, direct ser
	vices to Manchester Piccadilly. The group meets inside the leisure centre\
	, just beyond reception\, against the blue wall near the computers. A grou
	p member will welcome you there and take payment.\n\n\n\n	The pool we use 
	has its own changing cubicles\, lockers\, showers and toilets\, and includ
	es facilities for wheelchair users. Full length blinds protect our privacy
	 from the neighbouring pool for the duration of our swim. The atmosphere i
	s friendly and relaxed\; in the pool you can swim or chat as much or as li
	ttle as you like. There's an optional visit to the nearby pub The Bluebell
	 for a pint afterwards. Numbers vary\, but average 15-20 guys each week\; 
	the maximum allowed is 30. The swim is advertised on various sites and gro
	ups online\, so don’t worry if there are low numbers attending from this
	 listing.\n\n\n\n	This swim was established in 2006\, and is one of the UK
	’s few remaining male only naturist swim events. Men from not just Manch
	ester\, but all over the UK and even around the world have swam with us\; 
	and all men are welcome to attend. For any queries\, please contact me on 
	here or email David at buckley_dp@yahoo.com.\n\n\n\n	Unacceptable behaviou
	r will not be tolerated.\n\n\n\n	Twitter @McrMaleNkdSwim\n\n\n\n	Instagram
	 @mcrmalenkdswim\n\n\n\n	Facebook @McrMaleNkdSwim\n\n\n\n	\n\n\n\n	\n\n\n\
	n	\n\n\n\n	\n\n
DTSTART:20190307T194500Z
DTEND:20190307T204500Z
END:VEVENT
END:VCALENDAR
