BEGIN:VCALENDAR
VERSION:2.0
PRODID:-//InvisionCommunity Events 5.0.18//EN
METHOD:PUBLISH
CALSCALE:GREGORIAN
REFRESH-INTERVAL:PT15M
X-PUBLISHED-TTL:PT15M
X-WR-CALNAME:Eastern
NAME:Eastern
BEGIN:VTIMEZONE
TZID:Europe/London
TZURL:https://tzurl.org/zoneinfo/Europe/London
X-LIC-LOCATION:Europe/London
BEGIN:DAYLIGHT
TZOFFSETFROM:+0000
TZOFFSETTO:+0100
TZNAME:BST
DTSTART:20190331T020000Z
RRULE:FREQ=YEARLY;BYMONTH=3;BYDAY=-1SU
END:DAYLIGHT
BEGIN:STANDARD
TZOFFSETFROM:+0100
TZOFFSETTO:+0000
TZNAME:GMT
DTSTART:20191027T020000Z
RRULE:FREQ=YEARLY;BYMONTH=10;BYDAY=-1SU
END:STANDARD
END:VTIMEZONE
BEGIN:VEVENT
SUMMARY:VINEYARD TOUR AND WINE TASTING
DTSTAMP:20190206T180820Z
SEQUENCE:0
UID:4804-8-0712e666d78c35a5e0181a336d457050@bn.org.uk
ORGANIZER;CN="Robert Finney":notifications@bn.org.uk
DESCRIPTION:\n\n	\n\n\n	 \n\n\n\n	SOLD OUT\n\n\n\n	VALLEY FARM VINEYARD
	S\n\n\n\n	TOUR AND WINE TASTING\n\n\n\n	SATURDAY 10TH AUGUST AT 2.00PM\n\
	n\n\n	The vineyard trip is fully booked\n\n\n\n	 \n\n\n\n	 \n\n\n\n	 \n
	\n\n\n	\n\n\n\n	We have arranged a naked tour of Valley Farms Vineyard in 
	Suffolk and a tasting of three of their fine wines. The tour and tutored
	 tasting will be lead by Vanessa and Elaine who own and run the award winn
	ing vineyard.\n\n\n\n	The numbers are limited to a maximum of 30 people at
	 a price of £15.00 per person. Tickets will go on sale after Easter.\n\n
	\n\n	Booking is now is now open for this event. \n\n\n\n	Please email Robe
	rt for booking\; - athelstan936@ntlworld.com  \n\n\n\n	Valley Farm Vine
	yards.\n\n\n\n	Rumburgh Road\, \n\n\n\n	Wissett\, \n\n\n\n	Halesworth \n\n
	\n\n	IP19 0JJ\n\n\n\n	 \n\n\n\n	(This event involves a gentle walk aroun
	d a vineyard so sensible footwear is advised. If you have any mobility iss
	ues and want further information please contact us. Please note\; we only
	 use the Athelstan email address for event bookings. For other matters\; p
	lease contact Robert on easternchairman@bn.org.uk)\n\n
DTSTART:20190810T130000Z
DTEND:20190810T160000Z
END:VEVENT
END:VCALENDAR
