BEGIN:VCALENDAR
VERSION:2.0
PRODID:-//InvisionCommunity Events 5.0.18//EN
METHOD:PUBLISH
CALSCALE:GREGORIAN
REFRESH-INTERVAL:PT15M
X-PUBLISHED-TTL:PT15M
X-WR-CALNAME:Eastern
NAME:Eastern
BEGIN:VTIMEZONE
TZID:Europe/London
TZURL:https://tzurl.org/zoneinfo/Europe/London
X-LIC-LOCATION:Europe/London
BEGIN:DAYLIGHT
TZOFFSETFROM:+0000
TZOFFSETTO:+0100
TZNAME:BST
DTSTART:20180325T020000Z
RRULE:FREQ=YEARLY;BYMONTH=3;BYDAY=-1SU
END:DAYLIGHT
BEGIN:STANDARD
TZOFFSETFROM:+0100
TZOFFSETTO:+0000
TZNAME:GMT
DTSTART:20181028T020000Z
RRULE:FREQ=YEARLY;BYMONTH=10;BYDAY=-1SU
END:STANDARD
END:VTIMEZONE
BEGIN:VEVENT
SUMMARY:Naturist Home Social
DTSTAMP:20181112T070954Z
SEQUENCE:0
UID:4520-8-0712e666d78c35a5e0181a336d457050@bn.org.uk
ORGANIZER;CN="chriswillcam":notifications@bn.org.uk
DESCRIPTION:\n	We are welcoming a few naturist couples and singles to ou
	r home for a wintertime social. Come and meet some other naturists\, we ex
	pect lots of chat\, a glass of wine or two\, naked networking and a chance
	 to share experiences. Not all of us can wait until the spring weather arr
	ives. So why not join us? Chrissy &amp\; Will x\n
DTSTART:20181125T140000Z
END:VEVENT
END:VCALENDAR
