BEGIN:VCALENDAR
VERSION:2.0
PRODID:-//InvisionCommunity Events 5.0.18//EN
METHOD:PUBLISH
CALSCALE:GREGORIAN
REFRESH-INTERVAL:PT15M
X-PUBLISHED-TTL:PT15M
X-WR-CALNAME:South West
NAME:South West
BEGIN:VTIMEZONE
TZID:Europe/London
TZURL:https://tzurl.org/zoneinfo/Europe/London
X-LIC-LOCATION:Europe/London
BEGIN:DAYLIGHT
TZOFFSETFROM:+0000
TZOFFSETTO:+0100
TZNAME:BST
DTSTART:20180325T020000Z
RRULE:FREQ=YEARLY;BYMONTH=3;BYDAY=-1SU
END:DAYLIGHT
BEGIN:STANDARD
TZOFFSETFROM:+0100
TZOFFSETTO:+0000
TZNAME:GMT
DTSTART:20181028T020000Z
RRULE:FREQ=YEARLY;BYMONTH=10;BYDAY=-1SU
END:STANDARD
END:VTIMEZONE
BEGIN:VEVENT
SUMMARY:Wyvern Sun and Swim
DTSTAMP:20181022T153755Z
SEQUENCE:0
UID:4472-4-0712e666d78c35a5e0181a336d457050@bn.org.uk
ORGANIZER;CN="philip.sheldrake":notifications@bn.org.uk
DESCRIPTION:\n\n	Wyvern Sun and Swim:  6.30 to 8.30 pm (last entry 7.00
	 pm) Tewkesbury Leisure Centre\, GL20 5SX: 25 metre pool\, splash pool\, s
	auna and steam room. Free tea and coffee.\n\n\n\n	Please bring proof of ID
	 including current BN card if you are a member. If you are not a BN me
	mber\, please contact us first on 07563 678253.\n\n\n\n	wyvernsun@live.co.
	uk\n\n
DTSTART:20181104T183000Z
DTEND:20181104T203000Z
END:VEVENT
END:VCALENDAR
