BEGIN:VCALENDAR
VERSION:2.0
PRODID:-//InvisionCommunity Events 5.0.18//EN
METHOD:PUBLISH
CALSCALE:GREGORIAN
REFRESH-INTERVAL:PT15M
X-PUBLISHED-TTL:PT15M
X-WR-CALNAME:North West
NAME:North West
BEGIN:VTIMEZONE
TZID:Europe/London
TZURL:https://tzurl.org/zoneinfo/Europe/London
X-LIC-LOCATION:Europe/London
BEGIN:DAYLIGHT
TZOFFSETFROM:+0000
TZOFFSETTO:+0100
TZNAME:BST
DTSTART:20180325T020000Z
RRULE:FREQ=YEARLY;BYMONTH=3;BYDAY=-1SU
END:DAYLIGHT
BEGIN:STANDARD
TZOFFSETFROM:+0100
TZOFFSETTO:+0000
TZNAME:GMT
DTSTART:20181028T020000Z
RRULE:FREQ=YEARLY;BYMONTH=10;BYDAY=-1SU
END:STANDARD
END:VTIMEZONE
BEGIN:VEVENT
SUMMARY:Wirralnats Chester Swim
DTSTAMP:20181020T121952Z
SEQUENCE:0
UID:4471-5-0712e666d78c35a5e0181a336d457050@bn.org.uk
ORGANIZER;CN="Ron.O":notifications@bn.org.uk
DESCRIPTION:\n\n	WIRRALNATS CHESTER SWIM \n\n\n\n	PLEASE NOTE NEW TIMES
	\n\n\n\n	These times will be applied to all future Wirralnats swims\n\n\n\
	n	Every Saturday at the Northgate Arena\, Chester.  19.15 - 21.00 \n\n\n
	\n	Please book in advance via the Wirralnats website \n\n\n\n	Discounts f
	or BN Members\, BN Club Members &amp\; Students\n\n\n\n	Email: enquiries@w
	irralnats.org.uk\n\n
DTSTART:20181103T191500Z
DTEND:20181103T210000Z
END:VEVENT
END:VCALENDAR
