BEGIN:VCALENDAR
VERSION:2.0
PRODID:-//InvisionCommunity Events 5.0.18//EN
METHOD:PUBLISH
CALSCALE:GREGORIAN
REFRESH-INTERVAL:PT15M
X-PUBLISHED-TTL:PT15M
X-WR-CALNAME:Yorkshire and East Midlands
NAME:Yorkshire and East Midlands
BEGIN:VTIMEZONE
TZID:Europe/London
TZURL:https://tzurl.org/zoneinfo/Europe/London
X-LIC-LOCATION:Europe/London
BEGIN:DAYLIGHT
TZOFFSETFROM:+0000
TZOFFSETTO:+0100
TZNAME:BST
DTSTART:20180325T020000Z
RRULE:FREQ=YEARLY;BYMONTH=3;BYDAY=-1SU
END:DAYLIGHT
BEGIN:STANDARD
TZOFFSETFROM:+0100
TZOFFSETTO:+0000
TZNAME:GMT
DTSTART:20181028T020000Z
RRULE:FREQ=YEARLY;BYMONTH=10;BYDAY=-1SU
END:STANDARD
END:VTIMEZONE
BEGIN:VEVENT
SUMMARY:Yorkshire and EM Regional Meeting
DTSTAMP:20180813T212007Z
SEQUENCE:0
UID:4378-6-0712e666d78c35a5e0181a336d457050@bn.org.uk
ORGANIZER;CN="Andrew Calow":notifications@bn.org.uk
DESCRIPTION:\n\n	There will be a regional meeting taking place at the As
	hdene Naturist Club (between Elland and Brighouse) in West Yorkshire.\n\n\
	n\n	This is open to all members in the region. This includes individual me
	mbers as well as clubs and swims.\n\n\n\n	I have received confirmation tha
	t the club catering committee are able to provide us with a light lunch at
	 a nominal cost\, in order to assist with food preparation could you pleas
	e let me know by 25th October if you will be attending the meeting and lik
	ely to require lunch.\n\n	(It will also help with the car parking!)\n\n
DTSTART:20181104T110000Z
DTEND:20181104T130000Z
ATTENDEE;CN="KayEE";CUTYPE=INDIVIDUAL;PARTSTAT=ACCEPTED:noti
	fications@bn.org.uk
ATTENDEE;CN="Andrew.Davies";CUTYPE=INDIVIDUAL;PARTSTAT=ACCEP
	TED:notifications@bn.org.uk
END:VEVENT
END:VCALENDAR
